BEGIN:VCALENDAR
VERSION:2.0
PRODID:-//PMUG - ECPv6.15.20//NONSGML v1.0//EN
CALSCALE:GREGORIAN
METHOD:PUBLISH
X-WR-CALNAME:PMUG
X-ORIGINAL-URL:https://pmug.org
X-WR-CALDESC:Events for PMUG
REFRESH-INTERVAL;VALUE=DURATION:PT1H
X-Robots-Tag:noindex
X-PUBLISHED-TTL:PT1H
BEGIN:VTIMEZONE
TZID:America/Los_Angeles
BEGIN:DAYLIGHT
TZOFFSETFROM:-0800
TZOFFSETTO:-0700
TZNAME:PDT
DTSTART:20230312T100000
END:DAYLIGHT
BEGIN:STANDARD
TZOFFSETFROM:-0700
TZOFFSETTO:-0800
TZNAME:PST
DTSTART:20231105T090000
END:STANDARD
BEGIN:DAYLIGHT
TZOFFSETFROM:-0800
TZOFFSETTO:-0700
TZNAME:PDT
DTSTART:20240310T100000
END:DAYLIGHT
BEGIN:STANDARD
TZOFFSETFROM:-0700
TZOFFSETTO:-0800
TZNAME:PST
DTSTART:20241103T090000
END:STANDARD
BEGIN:DAYLIGHT
TZOFFSETFROM:-0800
TZOFFSETTO:-0700
TZNAME:PDT
DTSTART:20250309T100000
END:DAYLIGHT
BEGIN:STANDARD
TZOFFSETFROM:-0700
TZOFFSETTO:-0800
TZNAME:PST
DTSTART:20251102T090000
END:STANDARD
END:VTIMEZONE
BEGIN:VEVENT
DTSTART;TZID=America/Los_Angeles:20240604T180000
DTEND;TZID=America/Los_Angeles:20240604T193000
DTSTAMP:20260419T060537
CREATED:20240212T044129Z
LAST-MODIFIED:20240212T044129Z
UID:15903-1717524000-1717529400@pmug.org
SUMMARY:PMUG Clinic Via Zoom / June 4th / 6:00 pm
DESCRIPTION:PMUG Clinic (via Zoom) \nDo you have questions about your Apple products? Come on by. If you don’t have questions but just want to hang out\, come by too. \nHow to Attend: \nMembers should all receive an email with Zoom access info and a link 24 hours before the scheduled clinic. If you do not receive the notice\, send an email to info@pmug.org. \nAlso\, if you cannot make it at the scheduled PMUG Clinic time\, send an email to info@pmug.org\, and we can arrange a time to work with you. \nThe info email will include a link to the meeting. If you have not used Zoom before\, the linked page will give you the option for auto-download of the Zoom app. You can even join in from a computer running the Chrome browser in case you don’t want to install the Zoom software on your device. If you do not want to click on a link in an email\, the meeting ID and Passcode will be included for you to type or paste into the app or the Join a Meeting page at https://zoom.us/join. You can independently download the Zoom client app from https://zoom.us/download. \nWhen you get to the meeting: \nDON’T BE SHY. After we moved the clinics to Zoom\, they became a welcome social event for PMUG members during the pandemic. We get into extended discussions on various topics. However\, the purpose of the clinics is to help you with your Apple problems. Feel free to Raise Your Hand\, either physically in front of your camera\, or via the raise hand tool.  The Raise Hand tool works best. It is in the “Reactions” popup menu at the bottom of the Zoom window. The meeting host will give you priority in turn. \n 
URL:https://pmug.org/event/pmug-clinic-via-zoom-june-4th-600-pm/
LOCATION:Zoom App
CATEGORIES:PMUG Clinic
ATTACH;FMTTYPE=image/png:https://pmug.org/wp-content/uploads/2021/04/Screen-Shot-2021-04-13-PMUG-Clinic-w-permission-e1635276922954.png
END:VEVENT
BEGIN:VEVENT
DTSTART;TZID=America/Los_Angeles:20240610T183000
DTEND;TZID=America/Los_Angeles:20240610T210000
DTSTAMP:20260419T060537
CREATED:20240212T050705Z
LAST-MODIFIED:20240525T040545Z
UID:15920-1718044200-1718053200@pmug.org
SUMMARY:General Meeting - WWDC the Early Buzz / June 10th / 6:30 pm
DESCRIPTION:Program: WWDC the Early Buzz / By Our Experts & You / \nWorld Wide Developers Conference 24 –  Roundtable Discussion\nJoin the conversation about the new Apple Announcements! \nAs usual\, lots of speculation and rumors are swirling around one of Apple’s biggest annual events\, the World Wide Developer Conference (WWDC). On the morning of June 10th the WWDC Keynote address will prove it all true or false. Serendipitously\, PMUG’s June General Meeting is the evening of June 10th. Come along and join in on the early buzz at our Feature Presentation’s Roundtable discussion of all that is WWDC. \nApple’s World Wide Developers Conference isn’t just for software engineers. The announcements signal the roadmap for future product functionality that affects us all. Hear PMUG’s expert officers and members analyze the announcements\, and take the opportunity chime in with your own thoughts and questions. \n  \nHow to Attend: \nSince the beginning of the COVID pandemic we have held our monthly General Meetings via the Zoom app. It has worked very well\, making attendance convenient for our growing number of members from outside the Portland area. \nPMUG will send out an email with an electronic invitation that will start a Zoom virtual meeting on your computer or iOS device. See the PMUG Zoom info page for more information. \nVisitors are always welcome:  Send a message via the Contact Us link below to get an invitation. \n  \n  \n  \nOrder of Business: \n6:30 PM — 7:30 PM:\nQ&A Session for Member Assistance \n7:30pm – 8:00 PM:\nPMUG Club Announcements  and Business \n8:00 – 9:00 PM:\nFeature Presentation 
URL:https://pmug.org/event/general-meeting-topic-tbd-june-10th-630-pm/
LOCATION:Zoom App
CATEGORIES:General Meetings
END:VEVENT
BEGIN:VEVENT
DTSTART;TZID=America/Los_Angeles:20240611T180000
DTEND;TZID=America/Los_Angeles:20240611T193000
DTSTAMP:20260419T060537
CREATED:20240212T050146Z
LAST-MODIFIED:20240212T050146Z
UID:15914-1718128800-1718134200@pmug.org
SUMMARY:PMUG Clinic Via Zoom / June11th / 6:00 pm
DESCRIPTION:PMUG Clinic (via Zoom) \nDo you have questions about your Apple products? Come on by. If you don’t have questions but just want to hang out\, come by too. \nHow to Attend: \nMembers should all receive an email with Zoom access info and a link 24 hours before the scheduled clinic. If you do not receive the notice\, send an email to info@pmug.org. \nAlso\, if you cannot make it at the scheduled PMUG Clinic time\, send an email to info@pmug.org\, and we can arrange a time to work with you. \nThe info email will include a link to the meeting. If you have not used Zoom before\, the linked page will give you the option for auto-download of the Zoom app. You can even join in from a computer running the Chrome browser in case you don’t want to install the Zoom software on your device. If you do not want to click on a link in an email\, the meeting ID and Passcode will be included for you to type or paste into the app or the Join a Meeting page at https://zoom.us/join. You can independently download the Zoom client app from https://zoom.us/download. \nWhen you get to the meeting: \nDON’T BE SHY. After we moved the clinics to Zoom\, they became a welcome social event for PMUG members during the pandemic. We get into extended discussions on various topics. However\, the purpose of the clinics is to help you with your Apple problems. Feel free to Raise Your Hand\, either physically in front of your camera\, or via the raise hand tool.  The Raise Hand tool works best. It is in the “Reactions” popup menu at the bottom of the Zoom window. The meeting host will give you priority in turn. \n 
URL:https://pmug.org/event/pmug-clinic-via-zoom-june11th-600-pm/
LOCATION:Zoom App
CATEGORIES:PMUG Clinic
ATTACH;FMTTYPE=image/png:https://pmug.org/wp-content/uploads/2021/04/Screen-Shot-2021-04-13-PMUG-Clinic-w-permission-e1635276922954.png
END:VEVENT
BEGIN:VEVENT
DTSTART;TZID=America/Los_Angeles:20240618T180000
DTEND;TZID=America/Los_Angeles:20240618T193000
DTSTAMP:20260419T060537
CREATED:20240212T050324Z
LAST-MODIFIED:20240212T050324Z
UID:15916-1718733600-1718739000@pmug.org
SUMMARY:PMUG Clinic Via Zoom / June18th / 6:00 pm
DESCRIPTION:PMUG Clinic (via Zoom) \nDo you have questions about your Apple products? Come on by. If you don’t have questions but just want to hang out\, come by too. \nHow to Attend: \nMembers should all receive an email with Zoom access info and a link 24 hours before the scheduled clinic. If you do not receive the notice\, send an email to info@pmug.org. \nAlso\, if you cannot make it at the scheduled PMUG Clinic time\, send an email to info@pmug.org\, and we can arrange a time to work with you. \nThe info email will include a link to the meeting. If you have not used Zoom before\, the linked page will give you the option for auto-download of the Zoom app. You can even join in from a computer running the Chrome browser in case you don’t want to install the Zoom software on your device. If you do not want to click on a link in an email\, the meeting ID and Passcode will be included for you to type or paste into the app or the Join a Meeting page at https://zoom.us/join. You can independently download the Zoom client app from https://zoom.us/download. \nWhen you get to the meeting: \nDON’T BE SHY. After we moved the clinics to Zoom\, they became a welcome social event for PMUG members during the pandemic. We get into extended discussions on various topics. However\, the purpose of the clinics is to help you with your Apple problems. Feel free to Raise Your Hand\, either physically in front of your camera\, or via the raise hand tool.  The Raise Hand tool works best. It is in the “Reactions” popup menu at the bottom of the Zoom window. The meeting host will give you priority in turn. \n 
URL:https://pmug.org/event/pmug-clinic-via-zoom-june18th-600-pm/
LOCATION:Zoom App
CATEGORIES:PMUG Clinic
ATTACH;FMTTYPE=image/png:https://pmug.org/wp-content/uploads/2021/04/Screen-Shot-2021-04-13-PMUG-Clinic-w-permission-e1635276922954.png
END:VEVENT
BEGIN:VEVENT
DTSTART;TZID=America/Los_Angeles:20240619T183000
DTEND;TZID=America/Los_Angeles:20240619T200000
DTSTAMP:20260419T060537
CREATED:20240212T051241Z
LAST-MODIFIED:20240212T051241Z
UID:15923-1718821800-1718827200@pmug.org
SUMMARY:PMUG’s Multimedia SIG / June 19th / 6:30 pm (via Zoom)
DESCRIPTION:A Special Interest Group (SIG) for all types of Creatives\n \nMultimedia is an umbrella term to describe content that is created by multiple disciplines\, combining photo\, video\, animation\, drawing\, painting\, and musical content to create something new. \nA group of us are virtually getting together to hang and talk about the different types of creative work we like to do\, be it photography\, video\, art\, music or other creative pursuits. Please feel free to join in to share\, ask and learn from each other! \nHow to Attend: \nWe will meet via Zoom. Request an invite via: info@pmug.org \nOrder of Business: \n6:30 PM — 8:00 PM: interesting discussions
URL:https://pmug.org/event/pmugs-multimedia-sig-june-19th-630-pm-via-zoom/
LOCATION:Zoom App
CATEGORIES:Multimedia SIG Mtg
ATTACH;FMTTYPE=image/jpeg:https://pmug.org/wp-content/uploads/2023/07/IMG_8759.jpeg
END:VEVENT
BEGIN:VEVENT
DTSTART;TZID=America/Los_Angeles:20240624T183000
DTEND;TZID=America/Los_Angeles:20240624T193000
DTSTAMP:20260419T060537
CREATED:20240212T044308Z
LAST-MODIFIED:20240212T044308Z
UID:15912-1719253800-1719257400@pmug.org
SUMMARY:PMUG Steering Meeting - June 24th / 6:30 pm
DESCRIPTION:PMUG Steering Committee Meeting\n \nSince the beginning of the COVID pandemic PMUG steering meetings\, have been held via Zoom. \nPMUG members are always welcome to attend. \nYou may participate in the discussion or just observe. \nHow to Attend: \nSend an email to info@pmug.org saying that you would like to attend the steering committee meeting. We will send back an email with a link to the meeting. It will also include the meeting ID and pass code to copy and paste\, in case you don’t want to click on a link in an email. \nDuration:\n \nTypically 6:30 PM — 7:30 PM \n  \n 
URL:https://pmug.org/event/pmug-steering-meeting-june-24th-630-pm/
LOCATION:Zoom App
CATEGORIES:Steering Committee
ATTACH;FMTTYPE=image/jpeg:https://pmug.org/wp-content/uploads/2019/12/Meeting_Pictos.jpg
END:VEVENT
BEGIN:VEVENT
DTSTART;TZID=America/Los_Angeles:20240625T180000
DTEND;TZID=America/Los_Angeles:20240625T193000
DTSTAMP:20260419T060537
CREATED:20240212T050442Z
LAST-MODIFIED:20240212T050442Z
UID:15918-1719338400-1719343800@pmug.org
SUMMARY:PMUG Clinic Via Zoom / June25th / 6:00 pm
DESCRIPTION:PMUG Clinic (via Zoom) \nDo you have questions about your Apple products? Come on by. If you don’t have questions but just want to hang out\, come by too. \nHow to Attend: \nMembers should all receive an email with Zoom access info and a link 24 hours before the scheduled clinic. If you do not receive the notice\, send an email to info@pmug.org. \nAlso\, if you cannot make it at the scheduled PMUG Clinic time\, send an email to info@pmug.org\, and we can arrange a time to work with you. \nThe info email will include a link to the meeting. If you have not used Zoom before\, the linked page will give you the option for auto-download of the Zoom app. You can even join in from a computer running the Chrome browser in case you don’t want to install the Zoom software on your device. If you do not want to click on a link in an email\, the meeting ID and Passcode will be included for you to type or paste into the app or the Join a Meeting page at https://zoom.us/join. You can independently download the Zoom client app from https://zoom.us/download. \nWhen you get to the meeting: \nDON’T BE SHY. After we moved the clinics to Zoom\, they became a welcome social event for PMUG members during the pandemic. We get into extended discussions on various topics. However\, the purpose of the clinics is to help you with your Apple problems. Feel free to Raise Your Hand\, either physically in front of your camera\, or via the raise hand tool.  The Raise Hand tool works best. It is in the “Reactions” popup menu at the bottom of the Zoom window. The meeting host will give you priority in turn. \n 
URL:https://pmug.org/event/pmug-clinic-via-zoom-june25th-600-pm/
LOCATION:Zoom App
CATEGORIES:PMUG Clinic
ATTACH;FMTTYPE=image/png:https://pmug.org/wp-content/uploads/2021/04/Screen-Shot-2021-04-13-PMUG-Clinic-w-permission-e1635276922954.png
END:VEVENT
END:VCALENDAR