BEGIN:VCALENDAR
VERSION:2.0
PRODID:-//PMUG - ECPv6.15.20//NONSGML v1.0//EN
CALSCALE:GREGORIAN
METHOD:PUBLISH
X-ORIGINAL-URL:https://pmug.org
X-WR-CALDESC:Events for PMUG
REFRESH-INTERVAL;VALUE=DURATION:PT1H
X-Robots-Tag:noindex
X-PUBLISHED-TTL:PT1H
BEGIN:VTIMEZONE
TZID:America/Los_Angeles
BEGIN:DAYLIGHT
TZOFFSETFROM:-0800
TZOFFSETTO:-0700
TZNAME:PDT
DTSTART:20220313T100000
END:DAYLIGHT
BEGIN:STANDARD
TZOFFSETFROM:-0700
TZOFFSETTO:-0800
TZNAME:PST
DTSTART:20221106T090000
END:STANDARD
BEGIN:DAYLIGHT
TZOFFSETFROM:-0800
TZOFFSETTO:-0700
TZNAME:PDT
DTSTART:20230312T100000
END:DAYLIGHT
BEGIN:STANDARD
TZOFFSETFROM:-0700
TZOFFSETTO:-0800
TZNAME:PST
DTSTART:20231105T090000
END:STANDARD
BEGIN:DAYLIGHT
TZOFFSETFROM:-0800
TZOFFSETTO:-0700
TZNAME:PDT
DTSTART:20240310T100000
END:DAYLIGHT
BEGIN:STANDARD
TZOFFSETFROM:-0700
TZOFFSETTO:-0800
TZNAME:PST
DTSTART:20241103T090000
END:STANDARD
END:VTIMEZONE
BEGIN:VEVENT
DTSTART;TZID=America/Los_Angeles:20230502T180000
DTEND;TZID=America/Los_Angeles:20230502T193000
DTSTAMP:20260420T054516
CREATED:20230301T065822Z
LAST-MODIFIED:20230504T213638Z
UID:11415-1683050400-1683055800@pmug.org
SUMMARY:PMUG Clinic Via Zoom / May 2nd / 6:00 pm
DESCRIPTION:PMUG Clinic (via Zoom) \nDo you have questions about your Apple products? Come on by. If you don’t have questions but just want to hang out\, come by too. \nHow to Attend: \nMembers should all receive an email with Zoom access info and a link 24 hours before the scheduled clinic. If you do not receive the notice\, send an email to info@pmug.org. \nAlso\, if you cannot make it at the scheduled PMUG Clinic time\, send an email to info@pmug.org\, and we can arrange a time to work with you. \nThe info email will include a link to the meeting. If you have not used Zoom before\, the linked page will give you the option for auto-download of the Zoom app. You can even join in from a computer running the Chrome browser in case you don’t want to install the Zoom software on your device. If you do not want to click on a link in an email\, the meeting ID and Passcode will be included for you to type or paste into the app or the Join a Meeting page at https://zoom.us/join. You can independently download the Zoom client app from https://zoom.us/download. \nWhen you get to the meeting: \nDON’T BE SHY. After we moved the clinics to Zoom\, they became a welcome social event for PMUG members during the pandemic. We get into extended discussions on various topics. However\, the purpose of the clinics is to help you with your Apple problems. Feel free to Raise Your Hand\, either physically in front of your camera\, or via the raise hand tool.  The Raise Hand tool works best. It is in the “Reactions” popup menu at the bottom of the Zoom window. The meeting host will give you priority in turn. \n 
URL:https://pmug.org/event/pmug-clinic-via-zoom-may-2nd-600-pm/
LOCATION:Zoom App
CATEGORIES:Archived Event
ATTACH;FMTTYPE=image/png:https://pmug.org/wp-content/uploads/2021/04/Screen-Shot-2021-04-13-PMUG-Clinic-w-permission-e1635276922954.png
END:VEVENT
BEGIN:VEVENT
DTSTART;TZID=America/Los_Angeles:20230508T183000
DTEND;TZID=America/Los_Angeles:20230508T210000
DTSTAMP:20260420T054516
CREATED:20230301T072347Z
LAST-MODIFIED:20230510T052244Z
UID:11430-1683570600-1683579600@pmug.org
SUMMARY:General Meeting - Is Pages Apple’s most Unappreciated App? / May 8th / 6:30 pm
DESCRIPTION:Program: Is Pages Apple’s most Unappreciated App? / By Chris\, Loren\, & All of Us / \n“Pages.app” is another powerful program included free with every Apple Macintosh and available as a free download for iPad and iPhone. It is both a capable word processor and a versatile layout app for publishing electronic or printed documents. So why don’t more people use it? \nIf you are not familiar with Pages\, you will want to attend the May general meeting. PMUG’s own Pages power users\, Chris Kent and Loren Leed\, will guide you through several little stumbling blocks that can lead to lots of frustration. Once revealed\, Pages becomes a friendly and productive tool for both word processing and page layout tasks. \nWhether you have had success or failure with Pages\, there will be tips and techniques to give you a boost – wherever you are on the learning curve. In addition other members will be offering insights and questions that will help you get started or progress in your use of another Apple user asset. \nCome along to our virtual general meeting\, for information and camaraderie.  You are most welcome. \nHow to Attend: \nSince the beginning of the pandemic we have held our monthly General Meetings via the Zoom app. It has worked very well\, making attendance convenient for our growing number of members from outside the Portland area. \nPMUG will send out an email with an electronic invitation that will start a Zoom virtual meeting on your computer or iOS device. See the PMUG Zoom info page for more information. \nVisitors are always welcome:  Send a message via the Contact Us link below to get an invitation. \n  \nOrder of Business: \n6:30 PM — 7:30 PM:\nQ&A Session for Member Assistance \n7:30pm – 8:00 PM:\nPMUG Club Announcements  and Business \n8:00 – 9:00 PM:\nFeature Presentation 
URL:https://pmug.org/event/general-meeting-topic-tbd-may-8th-630-pm/
LOCATION:Zoom App
CATEGORIES:Archived General Meeting
ATTACH;FMTTYPE=image/jpeg:https://pmug.org/wp-content/uploads/2020/05/PMUG-MacCamp70-group-3-scaled-e1617665582349.jpeg
END:VEVENT
BEGIN:VEVENT
DTSTART;TZID=America/Los_Angeles:20230509T180000
DTEND;TZID=America/Los_Angeles:20230509T193000
DTSTAMP:20260420T054516
CREATED:20230301T070200Z
LAST-MODIFIED:20230510T052303Z
UID:11419-1683655200-1683660600@pmug.org
SUMMARY:PMUG Clinic Via Zoom / May 9th / 6:00 pm
DESCRIPTION:PMUG Clinic (via Zoom) \nDo you have questions about your Apple products? Come on by. If you don’t have questions but just want to hang out\, come by too. \nHow to Attend: \nMembers should all receive an email with Zoom access info and a link 24 hours before the scheduled clinic. If you do not receive the notice\, send an email to info@pmug.org. \nAlso\, if you cannot make it at the scheduled PMUG Clinic time\, send an email to info@pmug.org\, and we can arrange a time to work with you. \nThe info email will include a link to the meeting. If you have not used Zoom before\, the linked page will give you the option for auto-download of the Zoom app. You can even join in from a computer running the Chrome browser in case you don’t want to install the Zoom software on your device. If you do not want to click on a link in an email\, the meeting ID and Passcode will be included for you to type or paste into the app or the Join a Meeting page at https://zoom.us/join. You can independently download the Zoom client app from https://zoom.us/download. \nWhen you get to the meeting: \nDON’T BE SHY. After we moved the clinics to Zoom\, they became a welcome social event for PMUG members during the pandemic. We get into extended discussions on various topics. However\, the purpose of the clinics is to help you with your Apple problems. Feel free to Raise Your Hand\, either physically in front of your camera\, or via the raise hand tool.  The Raise Hand tool works best. It is in the “Reactions” popup menu at the bottom of the Zoom window. The meeting host will give you priority in turn. \n 
URL:https://pmug.org/event/pmug-clinic-via-zoom-may-9th-600-pm/
LOCATION:Zoom App
CATEGORIES:Archived Event
ATTACH;FMTTYPE=image/png:https://pmug.org/wp-content/uploads/2021/04/Screen-Shot-2021-04-13-PMUG-Clinic-w-permission-e1635276922954.png
END:VEVENT
BEGIN:VEVENT
DTSTART;TZID=America/Los_Angeles:20230516T180000
DTEND;TZID=America/Los_Angeles:20230516T193000
DTSTAMP:20260420T054516
CREATED:20230301T070539Z
LAST-MODIFIED:20230521T195930Z
UID:11421-1684260000-1684265400@pmug.org
SUMMARY:PMUG Clinic Via Zoom / May16th / 6:00 pm
DESCRIPTION:PMUG Clinic (via Zoom) \nDo you have questions about your Apple products? Come on by. If you don’t have questions but just want to hang out\, come by too. \nHow to Attend: \nMembers should all receive an email with Zoom access info and a link 24 hours before the scheduled clinic. If you do not receive the notice\, send an email to info@pmug.org. \nAlso\, if you cannot make it at the scheduled PMUG Clinic time\, send an email to info@pmug.org\, and we can arrange a time to work with you. \nThe info email will include a link to the meeting. If you have not used Zoom before\, the linked page will give you the option for auto-download of the Zoom app. You can even join in from a computer running the Chrome browser in case you don’t want to install the Zoom software on your device. If you do not want to click on a link in an email\, the meeting ID and Passcode will be included for you to type or paste into the app or the Join a Meeting page at https://zoom.us/join. You can independently download the Zoom client app from https://zoom.us/download. \nWhen you get to the meeting: \nDON’T BE SHY. After we moved the clinics to Zoom\, they became a welcome social event for PMUG members during the pandemic. We get into extended discussions on various topics. However\, the purpose of the clinics is to help you with your Apple problems. Feel free to Raise Your Hand\, either physically in front of your camera\, or via the raise hand tool.  The Raise Hand tool works best. It is in the “Reactions” popup menu at the bottom of the Zoom window. The meeting host will give you priority in turn. \n 
URL:https://pmug.org/event/pmug-clinic-via-zoom-may16th-600-pm/
LOCATION:Zoom App
CATEGORIES:Archived Event
ATTACH;FMTTYPE=image/png:https://pmug.org/wp-content/uploads/2021/04/Screen-Shot-2021-04-13-PMUG-Clinic-w-permission-e1635276922954.png
END:VEVENT
BEGIN:VEVENT
DTSTART;TZID=America/Los_Angeles:20230522T183000
DTEND;TZID=America/Los_Angeles:20230522T193000
DTSTAMP:20260420T054516
CREATED:20230301T071940Z
LAST-MODIFIED:20230602T172040Z
UID:11429-1684780200-1684783800@pmug.org
SUMMARY:PMUG Steering Meeting - May 22nd / 6:30 pm
DESCRIPTION:PMUG Steering Committee Meeting\n \nSince the beginning of the pandemic PMUG steering meetings\, have been held via Zoom. \nPMUG members are always welcome to attend. \nYou may participate in the discussion or just observe. \nHow to Attend: \nSend an email to info@pmug.org saying that you would like to attend the steering committee meeting. We will send back an email with a link to the meeting. It will also include the meeting ID and pass code to copy and paste\, in case you don’t want to click on a link in an email. \nDuration:\n \nTypically 6:30 PM — 7:30 PM \n  \n 
URL:https://pmug.org/event/pmug-steering-meeting-may-22nd-630-pm/
LOCATION:Zoom App
CATEGORIES:Archived Event
ATTACH;FMTTYPE=image/jpeg:https://pmug.org/wp-content/uploads/2019/12/Meeting_Pictos.jpg
END:VEVENT
BEGIN:VEVENT
DTSTART;TZID=America/Los_Angeles:20230523T180000
DTEND;TZID=America/Los_Angeles:20230523T193000
DTSTAMP:20260420T054516
CREATED:20230301T071048Z
LAST-MODIFIED:20230602T172052Z
UID:11422-1684864800-1684870200@pmug.org
SUMMARY:PMUG Clinic Via Zoom / May 23rd / 6:00 pm
DESCRIPTION:PMUG Clinic (via Zoom) \nDo you have questions about your Apple products? Come on by. If you don’t have questions but just want to hang out\, come by too. \nHow to Attend: \nMembers should all receive an email with Zoom access info and a link 24 hours before the scheduled clinic. If you do not receive the notice\, send an email to info@pmug.org. \nAlso\, if you cannot make it at the scheduled PMUG Clinic time\, send an email to info@pmug.org\, and we can arrange a time to work with you. \nThe info email will include a link to the meeting. If you have not used Zoom before\, the linked page will give you the option for auto-download of the Zoom app. You can even join in from a computer running the Chrome browser in case you don’t want to install the Zoom software on your device. If you do not want to click on a link in an email\, the meeting ID and Passcode will be included for you to type or paste into the app or the Join a Meeting page at https://zoom.us/join. You can independently download the Zoom client app from https://zoom.us/download. \nWhen you get to the meeting: \nDON’T BE SHY. After we moved the clinics to Zoom\, they became a welcome social event for PMUG members during the pandemic. We get into extended discussions on various topics. However\, the purpose of the clinics is to help you with your Apple problems. Feel free to Raise Your Hand\, either physically in front of your camera\, or via the raise hand tool.  The Raise Hand tool works best. It is in the “Reactions” popup menu at the bottom of the Zoom window. The meeting host will give you priority in turn. \n 
URL:https://pmug.org/event/pmug-clinic-via-zoom-may-23rd-600-pm/
LOCATION:Zoom App
CATEGORIES:Archived Event
ATTACH;FMTTYPE=image/png:https://pmug.org/wp-content/uploads/2021/04/Screen-Shot-2021-04-13-PMUG-Clinic-w-permission-e1635276922954.png
END:VEVENT
BEGIN:VEVENT
DTSTART;TZID=America/Los_Angeles:20230530T180000
DTEND;TZID=America/Los_Angeles:20230530T193000
DTSTAMP:20260420T054516
CREATED:20230301T071435Z
LAST-MODIFIED:20230602T172104Z
UID:11423-1685469600-1685475000@pmug.org
SUMMARY:PMUG Clinic Via Zoom / May 30th / 6:00 pm
DESCRIPTION:PMUG Clinic (via Zoom) \nDo you have questions about your Apple products? Come on by. If you don’t have questions but just want to hang out\, come by too. \nHow to Attend: \nMembers should all receive an email with Zoom access info and a link 24 hours before the scheduled clinic. If you do not receive the notice\, send an email to info@pmug.org. \nAlso\, if you cannot make it at the scheduled PMUG Clinic time\, send an email to info@pmug.org\, and we can arrange a time to work with you. \nThe info email will include a link to the meeting. If you have not used Zoom before\, the linked page will give you the option for auto-download of the Zoom app. You can even join in from a computer running the Chrome browser in case you don’t want to install the Zoom software on your device. If you do not want to click on a link in an email\, the meeting ID and Passcode will be included for you to type or paste into the app or the Join a Meeting page at https://zoom.us/join. You can independently download the Zoom client app from https://zoom.us/download. \nWhen you get to the meeting: \nDON’T BE SHY. After we moved the clinics to Zoom\, they became a welcome social event for PMUG members during the pandemic. We get into extended discussions on various topics. However\, the purpose of the clinics is to help you with your Apple problems. Feel free to Raise Your Hand\, either physically in front of your camera\, or via the raise hand tool.  The Raise Hand tool works best. It is in the “Reactions” popup menu at the bottom of the Zoom window. The meeting host will give you priority in turn. \n 
URL:https://pmug.org/event/pmug-clinic-via-zoom-may-30th-600-pm/
LOCATION:Zoom App
CATEGORIES:Archived Event
ATTACH;FMTTYPE=image/png:https://pmug.org/wp-content/uploads/2021/04/Screen-Shot-2021-04-13-PMUG-Clinic-w-permission-e1635276922954.png
END:VEVENT
END:VCALENDAR