BEGIN:VCALENDAR
VERSION:2.0
PRODID:-//PMUG - ECPv6.15.20//NONSGML v1.0//EN
CALSCALE:GREGORIAN
METHOD:PUBLISH
X-WR-CALNAME:PMUG
X-ORIGINAL-URL:https://pmug.org
X-WR-CALDESC:Events for PMUG
REFRESH-INTERVAL;VALUE=DURATION:PT1H
X-Robots-Tag:noindex
X-PUBLISHED-TTL:PT1H
BEGIN:VTIMEZONE
TZID:America/Los_Angeles
BEGIN:DAYLIGHT
TZOFFSETFROM:-0800
TZOFFSETTO:-0700
TZNAME:PDT
DTSTART:20220313T100000
END:DAYLIGHT
BEGIN:STANDARD
TZOFFSETFROM:-0700
TZOFFSETTO:-0800
TZNAME:PST
DTSTART:20221106T090000
END:STANDARD
BEGIN:DAYLIGHT
TZOFFSETFROM:-0800
TZOFFSETTO:-0700
TZNAME:PDT
DTSTART:20230312T100000
END:DAYLIGHT
BEGIN:STANDARD
TZOFFSETFROM:-0700
TZOFFSETTO:-0800
TZNAME:PST
DTSTART:20231105T090000
END:STANDARD
BEGIN:DAYLIGHT
TZOFFSETFROM:-0800
TZOFFSETTO:-0700
TZNAME:PDT
DTSTART:20240310T100000
END:DAYLIGHT
BEGIN:STANDARD
TZOFFSETFROM:-0700
TZOFFSETTO:-0800
TZNAME:PST
DTSTART:20241103T090000
END:STANDARD
END:VTIMEZONE
BEGIN:VEVENT
DTSTART;TZID=America/Los_Angeles:20230404T180000
DTEND;TZID=America/Los_Angeles:20230404T193000
DTSTAMP:20260420T074138
CREATED:20230216T220655Z
LAST-MODIFIED:20230412T050717Z
UID:11310-1680631200-1680636600@pmug.org
SUMMARY:PMUG Clinic Via Zoom / April 4th / 6:00 pm
DESCRIPTION:PMUG Clinic (via Zoom) \nIf you have Mac or iOS questions\, come by. If you don’t have questions but just want to hang out\, come by too. \nHow to Attend: \nMembers should all receive an email with Zoom access info and a link 24 hours before the scheduled clinic. If you do not receive the notice\, send an email to info@pmug.org. \nAlso\, if you cannot make it at the scheduled PMUG Clinic time\, send an email to info@pmug.org\, and we can arrange a time to work with you. \nThe info email will include a link to the meeting. If you have not used Zoom before\, the linked page will give you the option for auto-download of the Zoom app. You can even join in from a computer running the Chrome browser in case you don’t want to install the Zoom software on your device. If you do not want to click on a link in an email\, the meeting ID and Passcode will be included for you to type or paste into the app or the Join a Meeting page at https://zoom.us/join. You can independently download the Zoom client app from https://zoom.us/download. \nWhen you get to the meeting: \nDON’T BE SHY. After we moved the clinics to Zoom\, they became a welcome social event for PMUG members during the pandemic. We get into extended discussions on various topics. However\, the purpose of the clinics is to help you with your Apple problems. Feel free to Raise Your Hand\, either physically in front of your camera\, or via the raise hand tool.  The Raise Hand tool works best. It is in the “Reactions” popup menu at the bottom of the Zoom window. The meeting host will give you priority in turn. \n 
URL:https://pmug.org/event/pmug-clinic-via-zoom-april-4th-600-pm/
LOCATION:Zoom App
CATEGORIES:Archived Event
ATTACH;FMTTYPE=image/png:https://pmug.org/wp-content/uploads/2021/04/Screen-Shot-2021-04-13-PMUG-Clinic-w-permission-e1635276922954.png
END:VEVENT
BEGIN:VEVENT
DTSTART;TZID=America/Los_Angeles:20230410T183000
DTEND;TZID=America/Los_Angeles:20230410T210000
DTSTAMP:20260420T074138
CREATED:20230216T222532Z
LAST-MODIFIED:20230412T050734Z
UID:11322-1681151400-1681160400@pmug.org
SUMMARY:General Meeting - Preview.app\, A Creature of Many Features / April 10th / 6:30 pm
DESCRIPTION:Program: Preview.app – The Super Power You Didn’t Know You Had / By Our Experts + The Group / \nWhen you buy a Macintosh\, you get a “raft” of capable programs for free. Some are well known: Pages\, Keynote\, Number’s. A few are stealth powerhouses. “Preview” is one of those. It isn’t just good for viewing PDF files (and JPEGs and PNGs and TIFFs). It has a “hidden” toolbar that gives the user the ability to manipulate PDFs and other files in fun and useful ways. It is even a kind of poor man’s Photoshop. (OK\, a pauper’s Photoshop.) \nAt our April meeting we will do a deep dive into the many capabilities of this Apple freebee. Our experts will lead\, but we know other members have tricks and techniques to reveal also. Maybe that’s you! \nCome along to our virtual general meeting\, for information and camaraderie. \nHow to Attend: \nSince the beginning of the pandemic we have held our monthly General Meetings via the Zoom app. It has worked very well\, making attendance convenient for our growing number of members from outside the Portland area. \nPMUG will send out an email with an electronic invitation that will start a Zoom virtual meeting on your Mac or iOS device. See the PMUG Zoom info page for more information. \nVisitors are always welcome:  Send a message via the Contact Us link below to get an invitation. \n  \nOrder of Business: \n6:30 PM — 7:30 PM:\nQ&A Session for Member Assistance \n7:30pm – 8:00 PM:\nPMUG Club Announcements  and Business \n8:00 – 9:00 PM:\nFeature Presentation 
URL:https://pmug.org/event/general-meeting-topic-tbd-april-10th-630-pm/
LOCATION:Zoom App
CATEGORIES:Archived General Meeting
ATTACH;FMTTYPE=image/jpeg:https://pmug.org/wp-content/uploads/2020/05/PMUG-MacCamp70-group-3-scaled-e1617665582349.jpeg
END:VEVENT
BEGIN:VEVENT
DTSTART;TZID=America/Los_Angeles:20230411T180000
DTEND;TZID=America/Los_Angeles:20230411T193000
DTSTAMP:20260420T074138
CREATED:20230216T221139Z
LAST-MODIFIED:20230412T050752Z
UID:11312-1681236000-1681241400@pmug.org
SUMMARY:PMUG Clinic Via Zoom / April 11th / 6:00 pm
DESCRIPTION:PMUG Clinic (via Zoom) \nIf you have Mac or iOS questions\, come by. If you don’t have questions but just want to hang out\, come by too. \nHow to Attend: \nMembers should all receive an email with Zoom access info and a link 24 hours before the scheduled clinic. If you do not receive the notice\, send an email to info@pmug.org. \nAlso\, if you cannot make it at the scheduled PMUG Clinic time\, send an email to info@pmug.org\, and we can arrange a time to work with you. \nThe info email will include a link to the meeting. If you have not used Zoom before\, the linked page will give you the option for auto-download of the Zoom app. You can even join in from a computer running the Chrome browser in case you don’t want to install the Zoom software on your device. If you do not want to click on a link in an email\, the meeting ID and Passcode will be included for you to type or paste into the app or the Join a Meeting page at https://zoom.us/join. You can independently download the Zoom client app from https://zoom.us/download. \nWhen you get to the meeting: \nDON’T BE SHY. After we moved the clinics to Zoom\, they became a welcome social event for PMUG members during the pandemic. We get into extended discussions on various topics. However\, the purpose of the clinics is to help you with your Apple problems. Feel free to Raise Your Hand\, either physically in front of your camera\, or via the raise hand tool.  The Raise Hand tool works best. It is in the “Reactions” popup menu at the bottom of the Zoom window. The meeting host will give you priority in turn. \n 
URL:https://pmug.org/event/pmug-clinic-via-zoom-april-11th-600-pm/
LOCATION:Zoom App
CATEGORIES:Archived Event
ATTACH;FMTTYPE=image/png:https://pmug.org/wp-content/uploads/2021/04/Screen-Shot-2021-04-13-PMUG-Clinic-w-permission-e1635276922954.png
END:VEVENT
BEGIN:VEVENT
DTSTART;TZID=America/Los_Angeles:20230418T180000
DTEND;TZID=America/Los_Angeles:20230418T193000
DTSTAMP:20260420T074138
CREATED:20230216T221356Z
LAST-MODIFIED:20230420T224705Z
UID:11315-1681840800-1681846200@pmug.org
SUMMARY:PMUG Clinic Via Zoom / April 18th / 6:00 pm
DESCRIPTION:PMUG Clinic (via Zoom) \nIf you have Mac or iOS questions\, come by. If you don’t have questions but just want to hang out\, come by too. \nHow to Attend: \nMembers should all receive an email with Zoom access info and a link 24 hours before the scheduled clinic. If you do not receive the notice\, send an email to info@pmug.org. \nAlso\, if you cannot make it at the scheduled PMUG Clinic time\, send an email to info@pmug.org\, and we can arrange a time to work with you. \nThe info email will include a link to the meeting. If you have not used Zoom before\, the linked page will give you the option for auto-download of the Zoom app. You can even join in from a computer running the Chrome browser in case you don’t want to install the Zoom software on your device. If you do not want to click on a link in an email\, the meeting ID and Passcode will be included for you to type or paste into the app or the Join a Meeting page at https://zoom.us/join. You can independently download the Zoom client app from https://zoom.us/download. \nWhen you get to the meeting: \nDON’T BE SHY. After we moved the clinics to Zoom\, they became a welcome social event for PMUG members during the pandemic. We get into extended discussions on various topics. However\, the purpose of the clinics is to help you with your Apple problems. Feel free to Raise Your Hand\, either physically in front of your camera\, or via the raise hand tool.  The Raise Hand tool works best. It is in the “Reactions” popup menu at the bottom of the Zoom window. The meeting host will give you priority in turn. \n 
URL:https://pmug.org/event/pmug-clinic-via-zoom-april-18th-600-pm-copy/
LOCATION:Zoom App
CATEGORIES:Archived Event
ATTACH;FMTTYPE=image/png:https://pmug.org/wp-content/uploads/2021/04/Screen-Shot-2021-04-13-PMUG-Clinic-w-permission-e1635276922954.png
END:VEVENT
BEGIN:VEVENT
DTSTART;TZID=America/Los_Angeles:20230421T160000
DTEND;TZID=America/Los_Angeles:20230423T170000
DTSTAMP:20260420T074138
CREATED:20221026T064901Z
LAST-MODIFIED:20230504T213556Z
UID:9451-1682092800-1682269200@pmug.org
SUMMARY:Spring 2023 MacCamp / April 21\, 22\, 23
DESCRIPTION:Spring MacCamp (via Zoom) April 21st\, 22nd\, 23rd\, 2023 \nMacCamps have always been the premier events of the PMUG year. With continuing issues related to the pandemic and to better serve some of our more distant members\, Spring 2023 MacCamp will be via Zoom. \nIn previous MacCamps via zoom we have had two Zoom Rooms active\, each with interesting activities and presentations. There were also breakout rooms where members could meet with friends for a separate conversation on any topic they liked. Thus the wonderful community aspect of PMUG was maintained even when we could not meet in person. \nThis spring MacCamp will feature a social gathering on Friday and three in depth presentations on Saturday and Sunday: Apple Notes\, Final Cut Pro X and Logic Pro X\, and Books. For details see the schedule. \nHow to Attend: \nAs the date approaches members will receive an email with event details and information on how to register.  If you do not receive the notice\, send an email to info@pmug.org. \n  \n 
URL:https://pmug.org/event/spring-2021-maccamp-april-21-to-23/
CATEGORIES:Archived Event
ATTACH;FMTTYPE=image/jpeg:https://pmug.org/wp-content/uploads/2020/05/PMUG-MacCamp70-group-3-scaled-e1617665582349.jpeg
END:VEVENT
BEGIN:VEVENT
DTSTART;TZID=America/Los_Angeles:20230424T183000
DTEND;TZID=America/Los_Angeles:20230424T193000
DTSTAMP:20260420T074138
CREATED:20230216T222012Z
LAST-MODIFIED:20230504T213615Z
UID:11320-1682361000-1682364600@pmug.org
SUMMARY:PMUG Steering Meeting - April 24th / 6:30 pm
DESCRIPTION:PMUG Steering Committee Meeting\n \nSince the beginning of the pandemic PMUG steering meetings\, have been held via Zoom. \nPMUG members are always welcome to attend. \nYou may participate in the discussion or just observe. \nHow to Attend: \nSend an email to info@pmug.org saying that you would like to attend the steering committee meeting. We will send back an email with a link to the meeting. It will also include the meeting ID and pass code to copy and paste\, in case you don’t want to click on a link in an email. \nDuration:\n \nTypically 6:30 PM — 7:30 PM or a little beyond. \n  \n 
URL:https://pmug.org/event/pmug-steering-meeting-april-24th-630-pm/
LOCATION:Zoom App
CATEGORIES:Archived Event
ATTACH;FMTTYPE=image/jpeg:https://pmug.org/wp-content/uploads/2019/12/Meeting_Pictos.jpg
END:VEVENT
BEGIN:VEVENT
DTSTART;TZID=America/Los_Angeles:20230425T180000
DTEND;TZID=America/Los_Angeles:20230425T193000
DTSTAMP:20260420T074138
CREATED:20230216T221651Z
LAST-MODIFIED:20230504T213628Z
UID:11318-1682445600-1682451000@pmug.org
SUMMARY:PMUG Clinic Via Zoom / April 25th / 6:00 pm
DESCRIPTION:PMUG Clinic (via Zoom) \nIf you have Mac or iOS questions\, come by. If you don’t have questions but just want to hang out\, come by too. \nHow to Attend: \nMembers should all receive an email with Zoom access info and a link 24 hours before the scheduled clinic. If you do not receive the notice\, send an email to info@pmug.org. \nAlso\, if you cannot make it at the scheduled PMUG Clinic time\, send an email to info@pmug.org\, and we can arrange a time to work with you. \nThe info email will include a link to the meeting. If you have not used Zoom before\, the linked page will give you the option for auto-download of the Zoom app. You can even join in from a computer running the Chrome browser in case you don’t want to install the Zoom software on your device. If you do not want to click on a link in an email\, the meeting ID and Passcode will be included for you to type or paste into the app or the Join a Meeting page at https://zoom.us/join. You can independently download the Zoom client app from https://zoom.us/download. \nWhen you get to the meeting: \nDON’T BE SHY. After we moved the clinics to Zoom\, they became a welcome social event for PMUG members during the pandemic. We get into extended discussions on various topics. However\, the purpose of the clinics is to help you with your Apple problems. Feel free to Raise Your Hand\, either physically in front of your camera\, or via the raise hand tool.  The Raise Hand tool works best. It is in the “Reactions” popup menu at the bottom of the Zoom window. The meeting host will give you priority in turn. \n 
URL:https://pmug.org/event/pmug-clinic-via-zoom-april-25th-600-pm/
LOCATION:Zoom App
CATEGORIES:Archived Event
ATTACH;FMTTYPE=image/png:https://pmug.org/wp-content/uploads/2021/04/Screen-Shot-2021-04-13-PMUG-Clinic-w-permission-e1635276922954.png
END:VEVENT
END:VCALENDAR