BEGIN:VCALENDAR
VERSION:2.0
PRODID:-//PMUG - ECPv6.15.20//NONSGML v1.0//EN
CALSCALE:GREGORIAN
METHOD:PUBLISH
X-WR-CALNAME:PMUG
X-ORIGINAL-URL:https://pmug.org
X-WR-CALDESC:Events for PMUG
REFRESH-INTERVAL;VALUE=DURATION:PT1H
X-Robots-Tag:noindex
X-PUBLISHED-TTL:PT1H
BEGIN:VTIMEZONE
TZID:America/Los_Angeles
BEGIN:DAYLIGHT
TZOFFSETFROM:-0800
TZOFFSETTO:-0700
TZNAME:PDT
DTSTART:20210314T100000
END:DAYLIGHT
BEGIN:STANDARD
TZOFFSETFROM:-0700
TZOFFSETTO:-0800
TZNAME:PST
DTSTART:20211107T090000
END:STANDARD
BEGIN:DAYLIGHT
TZOFFSETFROM:-0800
TZOFFSETTO:-0700
TZNAME:PDT
DTSTART:20220313T100000
END:DAYLIGHT
BEGIN:STANDARD
TZOFFSETFROM:-0700
TZOFFSETTO:-0800
TZNAME:PST
DTSTART:20221106T090000
END:STANDARD
BEGIN:DAYLIGHT
TZOFFSETFROM:-0800
TZOFFSETTO:-0700
TZNAME:PDT
DTSTART:20230312T100000
END:DAYLIGHT
BEGIN:STANDARD
TZOFFSETFROM:-0700
TZOFFSETTO:-0800
TZNAME:PST
DTSTART:20231105T090000
END:STANDARD
END:VTIMEZONE
BEGIN:VEVENT
DTSTART;TZID=America/Los_Angeles:20221101T180000
DTEND;TZID=America/Los_Angeles:20221101T193000
DTSTAMP:20260422T052721
CREATED:20220628T003252Z
LAST-MODIFIED:20221102T054805Z
UID:7505-1667325600-1667331000@pmug.org
SUMMARY:PMUG Clinic Via Zoom / November 1st / 6:00 pm
DESCRIPTION:PMUG Clinic (via Zoom) \nDuring the pandemic we are holding PMUG Clinics via Zoom. \nIf you have Mac or iOS questions\, come by. If you don’t have questions but just want to hang out\, come by too. \nHow to Attend: \nMembers should receive an email with Zoom access info and a link 24 hours before the scheduled clinic. If you do not receive the notice\, send an email to info@pmug.org. \nAlso\, if you cannot make it at the scheduled PMUG Clinic time\, send an email to info@pmug.org\, and we can arrange a time to work with you. \nThe info email will include a link to the meeting. If you have not used Zoom before\, the linked page will give you the option for auto-download of the Zoom app. You can even join in from a computer running the Chrome browser in case you don’t want to install the Zoom software on your device. If you do not want to click on a link in an email\, the meeting ID and Passcode will be included for you to type or paste into the app or the Join a Meeting page at https://zoom.us/join. You can independently download the Zoom client app from https://zoom.us/download. \nWhen you get to the meeting: \nDON’T BE SHY. Since we have moved the clinics to Zoom\, they have become a welcome social event for PMUG members during the pandemic. We get into extended discussions on various topics. HOWEVER\, the purpose of the clinics is to help you with your technical Apple problems. Feel free to Raise Your Hand\, either physically in front of your camera\, or via the raise hand tool at the bottom of the Zoom window. The meeting host will give you priority. \n 
URL:https://pmug.org/event/pmug-clinic-via-zoom-november-1st-600-pm/
LOCATION:Zoom App
CATEGORIES:Archived Event
ATTACH;FMTTYPE=image/png:https://pmug.org/wp-content/uploads/2021/04/Screen-Shot-2021-04-13-PMUG-Clinic-w-permission-e1635276922954.png
END:VEVENT
BEGIN:VEVENT
DTSTART;TZID=America/Los_Angeles:20221108T180000
DTEND;TZID=America/Los_Angeles:20221108T193000
DTSTAMP:20260422T052721
CREATED:20220628T003535Z
LAST-MODIFIED:20221109T230611Z
UID:7507-1667930400-1667935800@pmug.org
SUMMARY:PMUG Clinic Via Zoom / November 8th / 6:00 pm
DESCRIPTION:PMUG Clinic (via Zoom) \nDuring the pandemic we are holding PMUG Clinics via Zoom. \nIf you have Mac or iOS questions\, come by. If you don’t have questions but just want to hang out\, come by too. \nHow to Attend: \nMembers should receive an email with Zoom access info and a link 24 hours before the scheduled clinic. If you do not receive the notice\, send an email to info@pmug.org. \nAlso\, if you cannot make it at the scheduled PMUG Clinic time\, send an email to info@pmug.org\, and we can arrange a time to work with you. \nThe info email will include a link to the meeting. If you have not used Zoom before\, the linked page will give you the option for auto-download of the Zoom app. You can even join in from a computer running the Chrome browser in case you don’t want to install the Zoom software on your device. If you do not want to click on a link in an email\, the meeting ID and Passcode will be included for you to type or paste into the app or the Join a Meeting page at https://zoom.us/join. You can independently download the Zoom client app from https://zoom.us/download. \nWhen you get to the meeting: \nDON’T BE SHY. Since we have moved the clinics to Zoom\, they have become a welcome social event for PMUG members during the pandemic. We get into extended discussions on various topics. HOWEVER\, the purpose of the clinics is to help you with your technical Apple problems. Feel free to Raise Your Hand\, either physically in front of your camera\, or via the raise hand tool at the bottom of the Zoom window. The meeting host will give you priority. \n 
URL:https://pmug.org/event/pmug-clinic-via-zoom-november-8th-600-pm/
LOCATION:Zoom App
CATEGORIES:Archived Event
ATTACH;FMTTYPE=image/png:https://pmug.org/wp-content/uploads/2021/04/Screen-Shot-2021-04-13-PMUG-Clinic-w-permission-e1635276922954.png
END:VEVENT
BEGIN:VEVENT
DTSTART;TZID=America/Los_Angeles:20221114T183000
DTEND;TZID=America/Los_Angeles:20221114T210000
DTSTAMP:20260422T052721
CREATED:20220628T001518Z
LAST-MODIFIED:20221116T061301Z
UID:7491-1668450600-1668459600@pmug.org
SUMMARY:General Meeting - macOS 13 Ventura/ November 14th / 6:30 pm
DESCRIPTION:Program: macOS Ventura: the Ins and Outs / By Our Resident Experts / \nIn October Apple released macOS 13 Ventura. As usual it contains many features and enhancements\, including: Mail: smarter searching for that old mail message you need to read again; Spotlight: image search; Passkeys: a new secure technology to (someday) replace passwords; Messages: undo send or edit a message after sending; iCloud Shared Photo Library; Stage Manager: a way to organize apps and windows so that your desktop is clutter-free and you can stay focused; FaceTime: handoff a call from one device to another. And A Bunch More! \nOur expert members will give you a great rundown on many of the features and as usual give us sage advice on how soon to “make the jump to Ventura speed.” \nJoin in the fun at our November virtual meeting\, for information and camaraderie. \nHow to Attend: \nPMUG will send out an email with an electronic invitation that will start a Zoom virtual meeting on your Mac or iOS device. You can even join in from a computer running the Chrome browser in case you don’t want to install the Zoom software on your device. See the PMUG Zoom info page for more information. Visitors are always welcome; send a message via the Contact Us link below to get an invitation. \n  \n6:30 PM — 7:30 PM:\nQ&A Session  \n7:30pm – 8:00 PM:\nPMUG Club Announcements   \n8:00 – 9:00 PM:\nFeature Presentation 
URL:https://pmug.org/event/general-meeting-program-tbd-november-14th-630-pm/
LOCATION:Zoom App
CATEGORIES:Archived General Meeting
ATTACH;FMTTYPE=image/jpeg:https://pmug.org/wp-content/uploads/2020/05/PMUG-MacCamp70-group-3-scaled-e1617665582349.jpeg
END:VEVENT
BEGIN:VEVENT
DTSTART;TZID=America/Los_Angeles:20221115T180000
DTEND;TZID=America/Los_Angeles:20221115T193000
DTSTAMP:20260422T052721
CREATED:20220628T003702Z
LAST-MODIFIED:20221116T050600Z
UID:7509-1668535200-1668540600@pmug.org
SUMMARY:PMUG Clinic Via Zoom / November 15th / 6:00 pm
DESCRIPTION:PMUG Clinic (via Zoom) \nDuring the pandemic we are holding PMUG Clinics via Zoom. \nIf you have Mac or iOS questions\, come by. If you don’t have questions but just want to hang out\, come by too. \nHow to Attend: \nMembers should receive an email with Zoom access info and a link 24 hours before the scheduled clinic. If you do not receive the notice\, send an email to info@pmug.org. \nAlso\, if you cannot make it at the scheduled PMUG Clinic time\, send an email to info@pmug.org\, and we can arrange a time to work with you. \nThe info email will include a link to the meeting. If you have not used Zoom before\, the linked page will give you the option for auto-download of the Zoom app. You can even join in from a computer running the Chrome browser in case you don’t want to install the Zoom software on your device. If you do not want to click on a link in an email\, the meeting ID and Passcode will be included for you to type or paste into the app or the Join a Meeting page at https://zoom.us/join. You can independently download the Zoom client app from https://zoom.us/download. \nWhen you get to the meeting: \nDON’T BE SHY. Since we have moved the clinics to Zoom\, they have become a welcome social event for PMUG members during the pandemic. We get into extended discussions on various topics. HOWEVER\, the purpose of the clinics is to help you with your technical Apple problems. Feel free to Raise Your Hand\, either physically in front of your camera\, or via the raise hand tool at the bottom of the Zoom window. The meeting host will give you priority. \n 
URL:https://pmug.org/event/pmug-clinic-via-zoom-november-15th-600-pm/
LOCATION:Zoom App
CATEGORIES:Archived Event
ATTACH;FMTTYPE=image/png:https://pmug.org/wp-content/uploads/2021/04/Screen-Shot-2021-04-13-PMUG-Clinic-w-permission-e1635276922954.png
END:VEVENT
BEGIN:VEVENT
DTSTART;TZID=America/Los_Angeles:20221122T180000
DTEND;TZID=America/Los_Angeles:20221122T193000
DTSTAMP:20260422T052721
CREATED:20220628T003843Z
LAST-MODIFIED:20221123T050329Z
UID:7511-1669140000-1669145400@pmug.org
SUMMARY:PMUG Clinic Via Zoom / November 22nd / 6:00 pm
DESCRIPTION:PMUG Clinic (via Zoom) \nDuring the pandemic we are holding PMUG Clinics via Zoom. \nIf you have Mac or iOS questions\, come by. If you don’t have questions but just want to hang out\, come by too. \nHow to Attend: \nMembers should receive an email with Zoom access info and a link 24 hours before the scheduled clinic. If you do not receive the notice\, send an email to info@pmug.org. \nAlso\, if you cannot make it at the scheduled PMUG Clinic time\, send an email to info@pmug.org\, and we can arrange a time to work with you. \nThe info email will include a link to the meeting. If you have not used Zoom before\, the linked page will give you the option for auto-download of the Zoom app. You can even join in from a computer running the Chrome browser in case you don’t want to install the Zoom software on your device. If you do not want to click on a link in an email\, the meeting ID and Passcode will be included for you to type or paste into the app or the Join a Meeting page at https://zoom.us/join. You can independently download the Zoom client app from https://zoom.us/download. \nWhen you get to the meeting: \nDON’T BE SHY. Since we have moved the clinics to Zoom\, they have become a welcome social event for PMUG members during the pandemic. We get into extended discussions on various topics. HOWEVER\, the purpose of the clinics is to help you with your technical Apple problems. Feel free to Raise Your Hand\, either physically in front of your camera\, or via the raise hand tool at the bottom of the Zoom window. The meeting host will give you priority. \n 
URL:https://pmug.org/event/pmug-clinic-via-zoom-november-22nd-600-pm/
LOCATION:Zoom App
CATEGORIES:Archived Event
ATTACH;FMTTYPE=image/png:https://pmug.org/wp-content/uploads/2021/04/Screen-Shot-2021-04-13-PMUG-Clinic-w-permission-e1635276922954.png
END:VEVENT
BEGIN:VEVENT
DTSTART;TZID=America/Los_Angeles:20221128T183000
DTEND;TZID=America/Los_Angeles:20221128T193000
DTSTAMP:20260422T052721
CREATED:20220628T005347Z
LAST-MODIFIED:20221130T073338Z
UID:7525-1669660200-1669663800@pmug.org
SUMMARY:PMUG Steering Meeting - November 28th / 6:30 pm
DESCRIPTION:PMUG Steering Committee Meeting\n \nDuring the pandemic PMUG steering meetings\, are being held via Zoom. \nPMUG members are always welcome to attend. \nYou may participate in the discussion or just observe. \nHow to Attend: \nSend an email to info@pmug.org saying that you would like to attend the steering committee meeting. We will send back an email with a link to the meeting. It will include the meeting ID and pass code to copy and paste\, in case you don’t want to click on a link in an email. \nDuration:\n \nTypically 6:30 PM — 7:30 PM or a little beyond. \n  \n 
URL:https://pmug.org/event/pmug-steering-meeting-november-28th-630-pm/
LOCATION:Zoom App
CATEGORIES:Archived Event
ATTACH;FMTTYPE=image/jpeg:https://pmug.org/wp-content/uploads/2019/12/Meeting_Pictos.jpg
END:VEVENT
BEGIN:VEVENT
DTSTART;TZID=America/Los_Angeles:20221129T180000
DTEND;TZID=America/Los_Angeles:20221129T193000
DTSTAMP:20260422T052721
CREATED:20220628T004034Z
LAST-MODIFIED:20221130T070027Z
UID:7513-1669744800-1669750200@pmug.org
SUMMARY:PMUG Clinic Via Zoom / November 29th / 6:00 pm
DESCRIPTION:PMUG Clinic (via Zoom) \nDuring the pandemic we are holding PMUG Clinics via Zoom. \nIf you have Mac or iOS questions\, come by. If you don’t have questions but just want to hang out\, come by too. \nHow to Attend: \nMembers should receive an email with Zoom access info and a link 24 hours before the scheduled clinic. If you do not receive the notice\, send an email to info@pmug.org. \nAlso\, if you cannot make it at the scheduled PMUG Clinic time\, send an email to info@pmug.org\, and we can arrange a time to work with you. \nThe info email will include a link to the meeting. If you have not used Zoom before\, the linked page will give you the option for auto-download of the Zoom app. You can even join in from a computer running the Chrome browser in case you don’t want to install the Zoom software on your device. If you do not want to click on a link in an email\, the meeting ID and Passcode will be included for you to type or paste into the app or the Join a Meeting page at https://zoom.us/join. You can independently download the Zoom client app from https://zoom.us/download. \nWhen you get to the meeting: \nDON’T BE SHY. Since we have moved the clinics to Zoom\, they have become a welcome social event for PMUG members during the pandemic. We get into extended discussions on various topics. HOWEVER\, the purpose of the clinics is to help you with your technical Apple problems. Feel free to Raise Your Hand\, either physically in front of your camera\, or via the raise hand tool at the bottom of the Zoom window. The meeting host will give you priority. \n 
URL:https://pmug.org/event/pmug-clinic-via-zoom-november-29th-600-pm/
LOCATION:Zoom App
CATEGORIES:Archived Event
ATTACH;FMTTYPE=image/png:https://pmug.org/wp-content/uploads/2021/04/Screen-Shot-2021-04-13-PMUG-Clinic-w-permission-e1635276922954.png
END:VEVENT
END:VCALENDAR