BEGIN:VCALENDAR
VERSION:2.0
PRODID:-//PMUG - ECPv6.15.20//NONSGML v1.0//EN
CALSCALE:GREGORIAN
METHOD:PUBLISH
X-ORIGINAL-URL:https://pmug.org
X-WR-CALDESC:Events for PMUG
REFRESH-INTERVAL;VALUE=DURATION:PT1H
X-Robots-Tag:noindex
X-PUBLISHED-TTL:PT1H
BEGIN:VTIMEZONE
TZID:America/Los_Angeles
BEGIN:DAYLIGHT
TZOFFSETFROM:-0800
TZOFFSETTO:-0700
TZNAME:PDT
DTSTART:20210314T100000
END:DAYLIGHT
BEGIN:STANDARD
TZOFFSETFROM:-0700
TZOFFSETTO:-0800
TZNAME:PST
DTSTART:20211107T090000
END:STANDARD
BEGIN:DAYLIGHT
TZOFFSETFROM:-0800
TZOFFSETTO:-0700
TZNAME:PDT
DTSTART:20220313T100000
END:DAYLIGHT
BEGIN:STANDARD
TZOFFSETFROM:-0700
TZOFFSETTO:-0800
TZNAME:PST
DTSTART:20221106T090000
END:STANDARD
BEGIN:DAYLIGHT
TZOFFSETFROM:-0800
TZOFFSETTO:-0700
TZNAME:PDT
DTSTART:20230312T100000
END:DAYLIGHT
BEGIN:STANDARD
TZOFFSETFROM:-0700
TZOFFSETTO:-0800
TZNAME:PST
DTSTART:20231105T090000
END:STANDARD
END:VTIMEZONE
BEGIN:VEVENT
DTSTART;TZID=America/Los_Angeles:20220906T180000
DTEND;TZID=America/Los_Angeles:20220906T193000
DTSTAMP:20260422T092258
CREATED:20220521T050659Z
LAST-MODIFIED:20220907T031530Z
UID:6901-1662487200-1662492600@pmug.org
SUMMARY:PMUG Clinic Via Zoom / September 6th / 6:00 pm
DESCRIPTION:PMUG Clinic (via Zoom) \nDuring the pandemic we are holding PMUG Clinics via Zoom. \nIf you have Mac or iOS questions\, come by. If you don’t have questions but just want to hang out\, come by too. \nHow to Attend: \nMembers should receive an email with Zoom access info and a link 24 hours before the scheduled clinic. If you do not receive the notice\, send an email to info@pmug.org. \nAlso\, if you cannot make it at the scheduled PMUG Clinic time\, send an email to info@pmug.org\, and we can arrange a time to work with you. \nThe info email will include a link to the meeting. If you have not used Zoom before\, the linked page will give you the option for auto-download of the Zoom app. You can even join in from a computer running the Chrome browser in case you don’t want to install the Zoom software on your device. If you do not want to click on a link in an email\, the meeting ID and Passcode will be included for you to type or paste into the app or the Join a Meeting page at https://zoom.us/join. You can independently download the Zoom client app from https://zoom.us/download. \nWhen you get to the meeting: \nDON’T BE SHY. Since we have moved the clinics to Zoom\, they have become a welcome social event for PMUG members during the pandemic. We get into extended discussions on various topics. HOWEVER\, the purpose of the clinics is to help you with your technical Apple problems. Feel free to Raise Your Hand\, either physically in front of your camera\, or via the raise hand tool at the bottom of the Zoom window. The meeting host will give you priority. \n 
URL:https://pmug.org/event/pmug-clinic-via-zoom-september-6th-600-pm/
LOCATION:Zoom App
CATEGORIES:Archived Event
ATTACH;FMTTYPE=image/png:https://pmug.org/wp-content/uploads/2021/04/Screen-Shot-2021-04-13-PMUG-Clinic-w-permission-e1635276922954.png
END:VEVENT
BEGIN:VEVENT
DTSTART;TZID=America/Los_Angeles:20220912T183000
DTEND;TZID=America/Los_Angeles:20220912T210000
DTSTAMP:20260422T092258
CREATED:20220521T045827Z
LAST-MODIFIED:20220914T044502Z
UID:6843-1663007400-1663016400@pmug.org
SUMMARY:General Meeting - Parallels Desktop / September 12th / 6:30 pm
DESCRIPTION:Program: Parallels Desktop – Run Windows Apps on Your Mac / By Kurt Schmucker – Parallels Product Manager / \n\nWhen Apple moved from the PowerPC CPU chip to Intel processors\, they created Boot Camp. For many years it let us run Windows software on our Macs.  With the shift from Intel CPUs to Apple Silicon\, Boot Camp has met its demise. However\, there was always an alternative to Boot Camp that was preferred by many: virtualization. A virtualization program sits on top of Mac OS and becomes an interface between the Mac hardware and Windows. Application programs will run on the virtual PC and never know the work is being done by Mac hardware. An advantage of a  virtualization program is that you have both OSes running at once\, a great convenience. \nA  global leader in the virtualization game is Parallels. Typically they release a new version late each summer. In fact Parallels Desktop 18 was just released on August 9. For many years in the fall Kurt Schumucker\, Parallels Product Manager\, has been kind enough to come and give PMUG a rundown on the cool new features of their latest release. \nAt our September meeting Kurt will demonstrate how a virtual Windows PC works on a Mac and highlight the advances introduced with Parallels Desktop 18\, including showing how it runs with MacOS Ventura\, which we expect to go mainstream in September. \nJoin in the fun at our September virtual meeting\, for information and camaraderie. \nHow to Attend: \n\nPMUG will send out an email with an electronic invitation that will start a Zoom virtual meeting on your Mac or iOS device. You can even join in from a computer running the Chrome browser in case you don’t want to install the Zoom software on your device. See the PMUG Zoom info page for more. Visitors are always welcome; send a message via the Contact Us link below to get an invitation. \n  \n6:30 PM — 7:30 PM:\nQ&A Session  \n7:30pm – 8:00 PM:\nPMUG Club Announcements \n8:00 – 9:00 PM:\nFeature Presentation  \n 
URL:https://pmug.org/event/general-meeting-parallels-desktop-september-12th-630-pm/
LOCATION:Zoom App
CATEGORIES:Archived General Meeting
ATTACH;FMTTYPE=image/jpeg:https://pmug.org/wp-content/uploads/2020/04/GenMeeting-Posterized-gold.jpg
END:VEVENT
BEGIN:VEVENT
DTSTART;TZID=America/Los_Angeles:20220913T180000
DTEND;TZID=America/Los_Angeles:20220913T193000
DTSTAMP:20260422T092258
CREATED:20220521T050936Z
LAST-MODIFIED:20220914T044517Z
UID:6903-1663092000-1663097400@pmug.org
SUMMARY:PMUG Clinic Via Zoom / September 13th / 6:00 pm
DESCRIPTION:PMUG Clinic (via Zoom) \nDuring the pandemic we are holding PMUG Clinics via Zoom. \nIf you have Mac or iOS questions\, come by. If you don’t have questions but just want to hang out\, come by too. \nHow to Attend: \nMembers should receive an email with Zoom access info and a link 24 hours before the scheduled clinic. If you do not receive the notice\, send an email to info@pmug.org. \nAlso\, if you cannot make it at the scheduled PMUG Clinic time\, send an email to info@pmug.org\, and we can arrange a time to work with you. \nThe info email will include a link to the meeting. If you have not used Zoom before\, the linked page will give you the option for auto-download of the Zoom app. You can even join in from a computer running the Chrome browser in case you don’t want to install the Zoom software on your device. If you do not want to click on a link in an email\, the meeting ID and Passcode will be included for you to type or paste into the app or the Join a Meeting page at https://zoom.us/join. You can independently download the Zoom client app from https://zoom.us/download. \nWhen you get to the meeting: \nDON’T BE SHY. Since we have moved the clinics to Zoom\, they have become a welcome social event for PMUG members during the pandemic. We get into extended discussions on various topics. HOWEVER\, the purpose of the clinics is to help you with your technical Apple problems. Feel free to Raise Your Hand\, either physically in front of your camera\, or via the raise hand tool at the bottom of the Zoom window. The meeting host will give you priority. \n 
URL:https://pmug.org/event/pmug-clinic-via-zoom-september-13th-600-pm/
LOCATION:Zoom App
CATEGORIES:Archived Event
ATTACH;FMTTYPE=image/png:https://pmug.org/wp-content/uploads/2021/04/Screen-Shot-2021-04-13-PMUG-Clinic-w-permission-e1635276922954.png
END:VEVENT
BEGIN:VEVENT
DTSTART;TZID=America/Los_Angeles:20220920T180000
DTEND;TZID=America/Los_Angeles:20220920T193000
DTSTAMP:20260422T092258
CREATED:20220521T051442Z
LAST-MODIFIED:20220921T052422Z
UID:6905-1663696800-1663702200@pmug.org
SUMMARY:PMUG Clinic Via Zoom / September 20th / 6:00 pm
DESCRIPTION:PMUG Clinic (via Zoom) \nDuring the pandemic we are holding PMUG Clinics via Zoom. \nIf you have Mac or iOS questions\, come by. If you don’t have questions but just want to hang out\, come by too. \nHow to Attend: \nMembers should receive an email with Zoom access info and a link 24 hours before the scheduled clinic. If you do not receive the notice\, send an email to info@pmug.org. \nAlso\, if you cannot make it at the scheduled PMUG Clinic time\, send an email to info@pmug.org\, and we can arrange a time to work with you. \nThe info email will include a link to the meeting. If you have not used Zoom before\, the linked page will give you the option for auto-download of the Zoom app. You can even join in from a computer running the Chrome browser in case you don’t want to install the Zoom software on your device. If you do not want to click on a link in an email\, the meeting ID and Passcode will be included for you to type or paste into the app or the Join a Meeting page at https://zoom.us/join. You can independently download the Zoom client app from https://zoom.us/download. \nWhen you get to the meeting: \nDON’T BE SHY. Since we have moved the clinics to Zoom\, they have become a welcome social event for PMUG members during the pandemic. We get into extended discussions on various topics. HOWEVER\, the purpose of the clinics is to help you with your technical Apple problems. Feel free to Raise Your Hand\, either physically in front of your camera\, or via the raise hand tool at the bottom of the Zoom window. The meeting host will give you priority. \n 
URL:https://pmug.org/event/pmug-clinic-via-zoom-september-20th-600-pm/
LOCATION:Zoom App
CATEGORIES:Archived Event
ATTACH;FMTTYPE=image/png:https://pmug.org/wp-content/uploads/2021/04/Screen-Shot-2021-04-13-PMUG-Clinic-w-permission-e1635276922954.png
END:VEVENT
BEGIN:VEVENT
DTSTART;TZID=America/Los_Angeles:20220926T183000
DTEND;TZID=America/Los_Angeles:20220926T193000
DTSTAMP:20260422T092258
CREATED:20220521T052026Z
LAST-MODIFIED:20220929T053604Z
UID:6909-1664217000-1664220600@pmug.org
SUMMARY:PMUG Steering Meeting - September 26th / 6:30 pm
DESCRIPTION:PMUG Steering Committee Meeting\n \nDuring the pandemic PMUG steering meetings\, are being held via Zoom. \nPMUG members are always welcome to attend. \nYou may participate in the discussion or just observe. \nHow to Attend: \nSend an email to info@pmug.org saying that you would like to attend the steering committee meeting. We will send back an email with a link to the meeting. It will include the meeting ID and pass code to copy and paste\, in case you don’t want to click on a link in an email. \nDuration:\n \nTypically 6:30 PM — 7:30 PM or a little beyond. \n  \n 
URL:https://pmug.org/event/pmug-steering-meeting-september-26th-630-pm-2/
LOCATION:Zoom App
CATEGORIES:Archived Event
ATTACH;FMTTYPE=image/jpeg:https://pmug.org/wp-content/uploads/2019/12/Meeting_Pictos.jpg
END:VEVENT
BEGIN:VEVENT
DTSTART;TZID=America/Los_Angeles:20220927T180000
DTEND;TZID=America/Los_Angeles:20220927T193000
DTSTAMP:20260422T092258
CREATED:20220521T051627Z
LAST-MODIFIED:20220929T053622Z
UID:6907-1664301600-1664307000@pmug.org
SUMMARY:PMUG Clinic Via Zoom / September 27th / 6:00 pm
DESCRIPTION:PMUG Clinic (via Zoom) \nDuring the pandemic we are holding PMUG Clinics via Zoom. \nIf you have Mac or iOS questions\, come by. If you don’t have questions but just want to hang out\, come by too. \nHow to Attend: \nMembers should receive an email with Zoom access info and a link 24 hours before the scheduled clinic. If you do not receive the notice\, send an email to info@pmug.org. \nAlso\, if you cannot make it at the scheduled PMUG Clinic time\, send an email to info@pmug.org\, and we can arrange a time to work with you. \nThe info email will include a link to the meeting. If you have not used Zoom before\, the linked page will give you the option for auto-download of the Zoom app. You can even join in from a computer running the Chrome browser in case you don’t want to install the Zoom software on your device. If you do not want to click on a link in an email\, the meeting ID and Passcode will be included for you to type or paste into the app or the Join a Meeting page at https://zoom.us/join. You can independently download the Zoom client app from https://zoom.us/download. \nWhen you get to the meeting: \nDON’T BE SHY. Since we have moved the clinics to Zoom\, they have become a welcome social event for PMUG members during the pandemic. We get into extended discussions on various topics. HOWEVER\, the purpose of the clinics is to help you with your technical Apple problems. Feel free to Raise Your Hand\, either physically in front of your camera\, or via the raise hand tool at the bottom of the Zoom window. The meeting host will give you priority. \n 
URL:https://pmug.org/event/pmug-clinic-via-zoom-september-27th-600-pm/
LOCATION:Zoom App
CATEGORIES:Archived Event
ATTACH;FMTTYPE=image/png:https://pmug.org/wp-content/uploads/2021/04/Screen-Shot-2021-04-13-PMUG-Clinic-w-permission-e1635276922954.png
END:VEVENT
END:VCALENDAR