BEGIN:VCALENDAR
VERSION:2.0
PRODID:-//PMUG - ECPv6.15.20//NONSGML v1.0//EN
CALSCALE:GREGORIAN
METHOD:PUBLISH
X-WR-CALNAME:PMUG
X-ORIGINAL-URL:https://pmug.org
X-WR-CALDESC:Events for PMUG
REFRESH-INTERVAL;VALUE=DURATION:PT1H
X-Robots-Tag:noindex
X-PUBLISHED-TTL:PT1H
BEGIN:VTIMEZONE
TZID:America/Los_Angeles
BEGIN:DAYLIGHT
TZOFFSETFROM:-0800
TZOFFSETTO:-0700
TZNAME:PDT
DTSTART:20210314T100000
END:DAYLIGHT
BEGIN:STANDARD
TZOFFSETFROM:-0700
TZOFFSETTO:-0800
TZNAME:PST
DTSTART:20211107T090000
END:STANDARD
BEGIN:DAYLIGHT
TZOFFSETFROM:-0800
TZOFFSETTO:-0700
TZNAME:PDT
DTSTART:20220313T100000
END:DAYLIGHT
BEGIN:STANDARD
TZOFFSETFROM:-0700
TZOFFSETTO:-0800
TZNAME:PST
DTSTART:20221106T090000
END:STANDARD
BEGIN:DAYLIGHT
TZOFFSETFROM:-0800
TZOFFSETTO:-0700
TZNAME:PDT
DTSTART:20230312T100000
END:DAYLIGHT
BEGIN:STANDARD
TZOFFSETFROM:-0700
TZOFFSETTO:-0800
TZNAME:PST
DTSTART:20231105T090000
END:STANDARD
END:VTIMEZONE
BEGIN:VEVENT
DTSTART;TZID=America/Los_Angeles:20220802T180000
DTEND;TZID=America/Los_Angeles:20220802T193000
DTSTAMP:20260422T111523
CREATED:20220415T054105Z
LAST-MODIFIED:20220803T211658Z
UID:6469-1659463200-1659468600@pmug.org
SUMMARY:PMUG Clinic Via Zoom / August 2nd / 6:00 pm
DESCRIPTION:PMUG Clinic (via Zoom) \nDuring the pandemic we are holding PMUG Clinics via Zoom. \nIf you have Mac or iOS questions\, come by. If you don’t have questions but just want to hang out\, come by too. \nHow to Attend: \nMembers should receive an email with Zoom access info and a link 24 hours before the scheduled clinic. If you do not receive the notice\, send an email to info@pmug.org. \nAlso\, if you cannot make it at the scheduled PMUG Clinic time\, send an email to info@pmug.org\, and we can arrange a time to work with you. \nThe info email will include a link to the meeting. If you have not used Zoom before\, the linked page will give you the option for auto-download of the Zoom app. You can even join in from a computer running the Chrome browser in case you don’t want to install the Zoom software on your device. If you do not want to click on a link in an email\, the meeting ID and Passcode will be included for you to type or paste into the app or the Join a Meeting page at https://zoom.us/join. You can independently download the Zoom client app from https://zoom.us/download. \nWhen you get to the meeting: \nDON’T BE SHY. Since we have moved the clinics to Zoom\, they have become a welcome social event for PMUG members during the pandemic. We get into extended discussions on various topics. HOWEVER\, the purpose of the clinics is to help you with your technical Apple problems. Feel free to Raise Your Hand\, either physically in front of your camera\, or via the raise hand tool at the bottom of the Zoom window. The meeting host will give you priority. \n 
URL:https://pmug.org/event/pmug-clinic-via-zoom-august-2nd-600-pm/
LOCATION:Zoom App
CATEGORIES:Archived Event
ATTACH;FMTTYPE=image/png:https://pmug.org/wp-content/uploads/2021/04/Screen-Shot-2021-04-13-PMUG-Clinic-w-permission-e1635276922954.png
END:VEVENT
BEGIN:VEVENT
DTSTART;TZID=America/Los_Angeles:20220808T183000
DTEND;TZID=America/Los_Angeles:20220808T210000
DTSTAMP:20260422T111523
CREATED:20220415T053803Z
LAST-MODIFIED:20220809T050101Z
UID:6467-1659983400-1659992400@pmug.org
SUMMARY:General Meeting - Clarifying AppleID and iCloud/ August 8th / 6:30 pm
DESCRIPTION:Program Clarifying AppleID+iCloud+iTunes+the App Store / By Joshin Yamada / \nWhat exactly is AppleID? How does it relate to iCloud? In a nutshell\, what is iCloud? Why is it free and yet why does it actually cost money? Over the years\, Apple has had a number of initiatives and services that they have either abandoned or morphed under one banner. PMUG Vice President Joshin Yamada will give a talk covering the history behind the AppleID/iCloud/iTunes/App Store account. \nJoin in the fun at our August virtual meeting\, for information and camaraderie. \nHow to Attend: \nPMUG will send out an email with an electronic invitation that will start a Zoom virtual meeting on your Mac or iOS device. You can even join in from a computer running the Chrome browser in case you don’t want to install the Zoom software on your device. Visitors are always welcome; send a message via the Contact Us link below to get an invitation. \n  \n6:30 PM — 7:30 PM:\nQ&A Session  \n7:30pm – 8:00 PM:\nPMUG Club Announcements   \n8:00 – 9:00 PM:\nFeature Presentation 
URL:https://pmug.org/event/general-meeting-program-tbd-august-8th-630-pm/
LOCATION:Zoom App
CATEGORIES:Archived General Meeting
ATTACH;FMTTYPE=image/jpeg:https://pmug.org/wp-content/uploads/2020/05/PMUG-MacCamp70-group-3-scaled-e1617665582349.jpeg
END:VEVENT
BEGIN:VEVENT
DTSTART;TZID=America/Los_Angeles:20220809T180000
DTEND;TZID=America/Los_Angeles:20220809T193000
DTSTAMP:20260422T111523
CREATED:20220415T054311Z
LAST-MODIFIED:20220810T035917Z
UID:6471-1660068000-1660073400@pmug.org
SUMMARY:PMUG Clinic Via Zoom / August 9th / 6:00 pm
DESCRIPTION:PMUG Clinic (via Zoom) \nDuring the pandemic we are holding PMUG Clinics via Zoom. \nIf you have Mac or iOS questions\, come by. If you don’t have questions but just want to hang out\, come by too. \nHow to Attend: \nMembers should receive an email with Zoom access info and a link 24 hours before the scheduled clinic. If you do not receive the notice\, send an email to info@pmug.org. \nAlso\, if you cannot make it at the scheduled PMUG Clinic time\, send an email to info@pmug.org\, and we can arrange a time to work with you. \nThe info email will include a link to the meeting. If you have not used Zoom before\, the linked page will give you the option for auto-download of the Zoom app. You can even join in from a computer running the Chrome browser in case you don’t want to install the Zoom software on your device. If you do not want to click on a link in an email\, the meeting ID and Passcode will be included for you to type or paste into the app or the Join a Meeting page at https://zoom.us/join. You can independently download the Zoom client app from https://zoom.us/download. \nWhen you get to the meeting: \nDON’T BE SHY. Since we have moved the clinics to Zoom\, they have become a welcome social event for PMUG members during the pandemic. We get into extended discussions on various topics. HOWEVER\, the purpose of the clinics is to help you with your technical Apple problems. Feel free to Raise Your Hand\, either physically in front of your camera\, or via the raise hand tool at the bottom of the Zoom window. The meeting host will give you priority. \n 
URL:https://pmug.org/event/pmug-clinic-via-zoom-august-9th-600-pm/
LOCATION:Zoom App
CATEGORIES:Archived Event
ATTACH;FMTTYPE=image/png:https://pmug.org/wp-content/uploads/2021/04/Screen-Shot-2021-04-13-PMUG-Clinic-w-permission-e1635276922954.png
END:VEVENT
BEGIN:VEVENT
DTSTART;TZID=America/Los_Angeles:20220816T180000
DTEND;TZID=America/Los_Angeles:20220816T193000
DTSTAMP:20260422T111523
CREATED:20220415T054450Z
LAST-MODIFIED:20220817T052130Z
UID:6473-1660672800-1660678200@pmug.org
SUMMARY:PMUG Clinic Via Zoom / August 16th / 6:00 pm
DESCRIPTION:PMUG Clinic (via Zoom) \nDuring the pandemic we are holding PMUG Clinics via Zoom. \nIf you have Mac or iOS questions\, come by. If you don’t have questions but just want to hang out\, come by too. \nHow to Attend: \nMembers should receive an email with Zoom access info and a link 24 hours before the scheduled clinic. If you do not receive the notice\, send an email to info@pmug.org. \nAlso\, if you cannot make it at the scheduled PMUG Clinic time\, send an email to info@pmug.org\, and we can arrange a time to work with you. \nThe info email will include a link to the meeting. If you have not used Zoom before\, the linked page will give you the option for auto-download of the Zoom app. You can even join in from a computer running the Chrome browser in case you don’t want to install the Zoom software on your device. If you do not want to click on a link in an email\, the meeting ID and Passcode will be included for you to type or paste into the app or the Join a Meeting page at https://zoom.us/join. You can independently download the Zoom client app from https://zoom.us/download. \nWhen you get to the meeting: \nDON’T BE SHY. Since we have moved the clinics to Zoom\, they have become a welcome social event for PMUG members during the pandemic. We get into extended discussions on various topics. HOWEVER\, the purpose of the clinics is to help you with your technical Apple problems. Feel free to Raise Your Hand\, either physically in front of your camera\, or via the raise hand tool at the bottom of the Zoom window. The meeting host will give you priority. \n 
URL:https://pmug.org/event/pmug-clinic-via-zoom-august-16th-600-pm/
LOCATION:Zoom App
CATEGORIES:Archived Event
ATTACH;FMTTYPE=image/png:https://pmug.org/wp-content/uploads/2021/04/Screen-Shot-2021-04-13-PMUG-Clinic-w-permission-e1635276922954.png
END:VEVENT
BEGIN:VEVENT
DTSTART;TZID=America/Los_Angeles:20220822T183000
DTEND;TZID=America/Los_Angeles:20220822T193000
DTSTAMP:20260422T111523
CREATED:20220415T053532Z
LAST-MODIFIED:20220823T030552Z
UID:6465-1661193000-1661196600@pmug.org
SUMMARY:PMUG Steering Meeting - August 22nd / 6:30 pm
DESCRIPTION:PMUG Steering Committee Meeting\n \nDuring the pandemic PMUG steering meetings\, are being held via Zoom. \nPMUG members are always welcome to attend. \nYou may participate in the discussion or just observe. \nHow to Attend: \nSend an email to info@pmug.org saying that you would like to attend the steering committee meeting. We will send back an email with a link to the meeting. It will include the meeting ID and pass code to copy and paste\, in case you don’t want to click on a link in an email. \nDuration:\n \nTypically 6:30 PM — 7:30 PM or a little beyond. \n  \n 
URL:https://pmug.org/event/pmug-steering-meeting-august-22nd-630-pm/
LOCATION:Zoom App
CATEGORIES:Archived Event
ATTACH;FMTTYPE=image/jpeg:https://pmug.org/wp-content/uploads/2019/12/Meeting_Pictos.jpg
END:VEVENT
BEGIN:VEVENT
DTSTART;TZID=America/Los_Angeles:20220823T180000
DTEND;TZID=America/Los_Angeles:20220823T193000
DTSTAMP:20260422T111523
CREATED:20220415T054636Z
LAST-MODIFIED:20220824T040621Z
UID:6475-1661277600-1661283000@pmug.org
SUMMARY:PMUG Clinic Via Zoom / August 23rd / 6:00 pm
DESCRIPTION:PMUG Clinic (via Zoom) \nDuring the pandemic we are holding PMUG Clinics via Zoom. \nIf you have Mac or iOS questions\, come by. If you don’t have questions but just want to hang out\, come by too. \nHow to Attend: \nMembers should receive an email with Zoom access info and a link 24 hours before the scheduled clinic. If you do not receive the notice\, send an email to info@pmug.org. \nAlso\, if you cannot make it at the scheduled PMUG Clinic time\, send an email to info@pmug.org\, and we can arrange a time to work with you. \nThe info email will include a link to the meeting. If you have not used Zoom before\, the linked page will give you the option for auto-download of the Zoom app. You can even join in from a computer running the Chrome browser in case you don’t want to install the Zoom software on your device. If you do not want to click on a link in an email\, the meeting ID and Passcode will be included for you to type or paste into the app or the Join a Meeting page at https://zoom.us/join. You can independently download the Zoom client app from https://zoom.us/download. \nWhen you get to the meeting: \nDON’T BE SHY. Since we have moved the clinics to Zoom\, they have become a welcome social event for PMUG members during the pandemic. We get into extended discussions on various topics. HOWEVER\, the purpose of the clinics is to help you with your technical Apple problems. Feel free to Raise Your Hand\, either physically in front of your camera\, or via the raise hand tool at the bottom of the Zoom window. The meeting host will give you priority. \n 
URL:https://pmug.org/event/pmug-clinic-via-zoom-august-23rd-600-pm/
LOCATION:Zoom App
CATEGORIES:Archived Event
ATTACH;FMTTYPE=image/png:https://pmug.org/wp-content/uploads/2021/04/Screen-Shot-2021-04-13-PMUG-Clinic-w-permission-e1635276922954.png
END:VEVENT
BEGIN:VEVENT
DTSTART;TZID=America/Los_Angeles:20220830T180000
DTEND;TZID=America/Los_Angeles:20220830T193000
DTSTAMP:20260422T111523
CREATED:20220415T054818Z
LAST-MODIFIED:20220903T092548Z
UID:6477-1661882400-1661887800@pmug.org
SUMMARY:PMUG Clinic Via Zoom / August 30th / 6:00 pm
DESCRIPTION:PMUG Clinic (via Zoom) \nDuring the pandemic we are holding PMUG Clinics via Zoom. \nIf you have Mac or iOS questions\, come by. If you don’t have questions but just want to hang out\, come by too. \nHow to Attend: \nMembers should receive an email with Zoom access info and a link 24 hours before the scheduled clinic. If you do not receive the notice\, send an email to info@pmug.org. \nAlso\, if you cannot make it at the scheduled PMUG Clinic time\, send an email to info@pmug.org\, and we can arrange a time to work with you. \nThe info email will include a link to the meeting. If you have not used Zoom before\, the linked page will give you the option for auto-download of the Zoom app. You can even join in from a computer running the Chrome browser in case you don’t want to install the Zoom software on your device. If you do not want to click on a link in an email\, the meeting ID and Passcode will be included for you to type or paste into the app or the Join a Meeting page at https://zoom.us/join. You can independently download the Zoom client app from https://zoom.us/download. \nWhen you get to the meeting: \nDON’T BE SHY. Since we have moved the clinics to Zoom\, they have become a welcome social event for PMUG members during the pandemic. We get into extended discussions on various topics. HOWEVER\, the purpose of the clinics is to help you with your technical Apple problems. Feel free to Raise Your Hand\, either physically in front of your camera\, or via the raise hand tool at the bottom of the Zoom window. The meeting host will give you priority. \n 
URL:https://pmug.org/event/pmug-clinic-via-zoom-august-30th-600-pm/
LOCATION:Zoom App
CATEGORIES:Archived Event
ATTACH;FMTTYPE=image/png:https://pmug.org/wp-content/uploads/2021/04/Screen-Shot-2021-04-13-PMUG-Clinic-w-permission-e1635276922954.png
END:VEVENT
END:VCALENDAR