BEGIN:VCALENDAR
VERSION:2.0
PRODID:-//PMUG - ECPv6.15.20//NONSGML v1.0//EN
CALSCALE:GREGORIAN
METHOD:PUBLISH
X-WR-CALNAME:PMUG
X-ORIGINAL-URL:https://pmug.org
X-WR-CALDESC:Events for PMUG
REFRESH-INTERVAL;VALUE=DURATION:PT1H
X-Robots-Tag:noindex
X-PUBLISHED-TTL:PT1H
BEGIN:VTIMEZONE
TZID:America/Los_Angeles
BEGIN:DAYLIGHT
TZOFFSETFROM:-0800
TZOFFSETTO:-0700
TZNAME:PDT
DTSTART:20210314T100000
END:DAYLIGHT
BEGIN:STANDARD
TZOFFSETFROM:-0700
TZOFFSETTO:-0800
TZNAME:PST
DTSTART:20211107T090000
END:STANDARD
BEGIN:DAYLIGHT
TZOFFSETFROM:-0800
TZOFFSETTO:-0700
TZNAME:PDT
DTSTART:20220313T100000
END:DAYLIGHT
BEGIN:STANDARD
TZOFFSETFROM:-0700
TZOFFSETTO:-0800
TZNAME:PST
DTSTART:20221106T090000
END:STANDARD
BEGIN:DAYLIGHT
TZOFFSETFROM:-0800
TZOFFSETTO:-0700
TZNAME:PDT
DTSTART:20230312T100000
END:DAYLIGHT
BEGIN:STANDARD
TZOFFSETFROM:-0700
TZOFFSETTO:-0800
TZNAME:PST
DTSTART:20231105T090000
END:STANDARD
END:VTIMEZONE
BEGIN:VEVENT
DTSTART;TZID=America/Los_Angeles:20220607T180000
DTEND;TZID=America/Los_Angeles:20220607T193000
DTSTAMP:20260422T150810
CREATED:20220124T013215Z
LAST-MODIFIED:20220608T051245Z
UID:5806-1654624800-1654630200@pmug.org
SUMMARY:PMUG Clinic Via Zoom / June 7th / 6:00 pm
DESCRIPTION:PMUG Clinic (via Zoom) \nDuring the pandemic we are holding PMUG Clinics via Zoom. \nIf you have Mac or iOS questions\, come by. If you don’t have questions but just want to hang out\, come by too. \nHow to Attend: \nMembers should receive an email with Zoom access info and a link 24 hours before the scheduled clinic. If you do not receive the notice\, send an email to info@pmug.org. \nAlso\, if you cannot make it at the scheduled PMUG Clinic time\, send an email to info@pmug.org\, and we can arrange a time to work with you. \nThe info email will include a link to the meeting. If you have not used Zoom before\, the linked page will give you the option for auto-download of the Zoom app. You can even join in from a computer running the Chrome browser in case you don’t want to install the Zoom software on your device. If you do not want to click on a link in an email\, the meeting ID and Passcode will be included for you to type or paste into the app or the Join a Meeting page at https://zoom.us/join. You can independently download the Zoom client app from https://zoom.us/download. \nWhen you get to the meeting: \nDON’T BE SHY. Since we have moved the clinics to Zoom\, they have become a welcome social event for PMUG members during the pandemic. We get into extended discussions on various topics. HOWEVER\, the purpose of the clinics is to help you with your technical Apple problems. Feel free to Raise Your Hand\, either physically in front of your camera\, or via the raise hand tool at the bottom of the Zoom window. The meeting host will give you priority. \n 
URL:https://pmug.org/event/pmug-clinic-via-zoom-june-7th-600-pm/
LOCATION:Zoom App
CATEGORIES:Archived Event
ATTACH;FMTTYPE=image/png:https://pmug.org/wp-content/uploads/2021/04/Screen-Shot-2021-04-13-PMUG-Clinic-w-permission-e1635276922954.png
END:VEVENT
BEGIN:VEVENT
DTSTART;TZID=America/Los_Angeles:20220613T183000
DTEND;TZID=America/Los_Angeles:20220613T210000
DTSTAMP:20260422T150810
CREATED:20210927T053431Z
LAST-MODIFIED:20220614T073235Z
UID:5049-1655145000-1655154000@pmug.org
SUMMARY:General Meeting -  World Wide Developer Conference Review / June 13th / 6:30 pm
DESCRIPTION:Program: World Wide Developer Conference Review / By All Of Us / \nNow more than ever\, Apple products are part of users’ daily lives\, helping them to learn\, create\, and connect. At WWDC22\, Apple’s growing global community of more than 30 million developers will gather to gain insight and access to the new technologies and tools to bring their visions into reality. \nA central feature of WWDC Week for Apple users and Apple watchers is the keynote address headed up by Tim Cook. Apple keynotes have become tour de force video presentations highlighting not only the new technology\, but how it translates into upcoming software features that keep the Apple ecosystem at the head of the pack. \nAt our June meeting we will ask you\, “Did you watch the keynote? What did you find to be the most interesting announcements?” We hope you will join the discussion\, ask questions\, or just listen in! \nJoin in the fun at our June virtual meeting\, for information and camaraderie. \nHow to Attend: \nPMUG will send out an email with an electronic invitation that will start a Zoom virtual meeting on your Mac or iOS device. You can even join in from a computer running the Chrome browser in case you don’t want to install the Zoom software on your device. Visitors are always welcome; send a message via the Contact Us link below to get an invitation. \nQ&A Session:  \n6:30 PM — 7:30 PM \nPMUG Club Announcements:  \n7:30pm – 8:00 PM \nFeature Presentation:  \n8:00 – 9:00 PM \n 
URL:https://pmug.org/event/general-meeting-program-tbd-june-13th-630-pm/
LOCATION:Zoom App
CATEGORIES:Archived General Meeting
ATTACH;FMTTYPE=image/jpeg:https://pmug.org/wp-content/uploads/2020/04/GenMeeting-Posterized-gold.jpg
END:VEVENT
BEGIN:VEVENT
DTSTART;TZID=America/Los_Angeles:20220614T180000
DTEND;TZID=America/Los_Angeles:20220614T193000
DTSTAMP:20260422T150810
CREATED:20220124T013349Z
LAST-MODIFIED:20220615T171853Z
UID:5809-1655229600-1655235000@pmug.org
SUMMARY:PMUG Clinic Via Zoom / June 14th / 6:00 pm
DESCRIPTION:PMUG Clinic (via Zoom) \nDuring the pandemic we are holding PMUG Clinics via Zoom. \nIf you have Mac or iOS questions\, come by. If you don’t have questions but just want to hang out\, come by too. \nHow to Attend: \nMembers should receive an email with Zoom access info and a link 24 hours before the scheduled clinic. If you do not receive the notice\, send an email to info@pmug.org. \nAlso\, if you cannot make it at the scheduled PMUG Clinic time\, send an email to info@pmug.org\, and we can arrange a time to work with you. \nThe info email will include a link to the meeting. If you have not used Zoom before\, the linked page will give you the option for auto-download of the Zoom app. You can even join in from a computer running the Chrome browser in case you don’t want to install the Zoom software on your device. If you do not want to click on a link in an email\, the meeting ID and Passcode will be included for you to type or paste into the app or the Join a Meeting page at https://zoom.us/join. You can independently download the Zoom client app from https://zoom.us/download. \nWhen you get to the meeting: \nDON’T BE SHY. Since we have moved the clinics to Zoom\, they have become a welcome social event for PMUG members during the pandemic. We get into extended discussions on various topics. HOWEVER\, the purpose of the clinics is to help you with your technical Apple problems. Feel free to Raise Your Hand\, either physically in front of your camera\, or via the raise hand tool at the bottom of the Zoom window. The meeting host will give you priority. \n 
URL:https://pmug.org/event/pmug-clinic-via-zoom-june-14th-600-pm/
LOCATION:Zoom App
CATEGORIES:Archived Event
ATTACH;FMTTYPE=image/png:https://pmug.org/wp-content/uploads/2021/04/Screen-Shot-2021-04-13-PMUG-Clinic-w-permission-e1635276922954.png
END:VEVENT
BEGIN:VEVENT
DTSTART;TZID=America/Los_Angeles:20220621T180000
DTEND;TZID=America/Los_Angeles:20220621T193000
DTSTAMP:20260422T150810
CREATED:20220124T013545Z
LAST-MODIFIED:20220622T185043Z
UID:5811-1655834400-1655839800@pmug.org
SUMMARY:PMUG Clinic Via Zoom / June 21st / 6:00 pm
DESCRIPTION:PMUG Clinic (via Zoom) \nDuring the pandemic we are holding PMUG Clinics via Zoom. \nIf you have Mac or iOS questions\, come by. If you don’t have questions but just want to hang out\, come by too. \nHow to Attend: \nMembers should receive an email with Zoom access info and a link 24 hours before the scheduled clinic. If you do not receive the notice\, send an email to info@pmug.org. \nAlso\, if you cannot make it at the scheduled PMUG Clinic time\, send an email to info@pmug.org\, and we can arrange a time to work with you. \nThe info email will include a link to the meeting. If you have not used Zoom before\, the linked page will give you the option for auto-download of the Zoom app. You can even join in from a computer running the Chrome browser in case you don’t want to install the Zoom software on your device. If you do not want to click on a link in an email\, the meeting ID and Passcode will be included for you to type or paste into the app or the Join a Meeting page at https://zoom.us/join. You can independently download the Zoom client app from https://zoom.us/download. \nWhen you get to the meeting: \nDON’T BE SHY. Since we have moved the clinics to Zoom\, they have become a welcome social event for PMUG members during the pandemic. We get into extended discussions on various topics. HOWEVER\, the purpose of the clinics is to help you with your technical Apple problems. Feel free to Raise Your Hand\, either physically in front of your camera\, or via the raise hand tool at the bottom of the Zoom window. The meeting host will give you priority. \n 
URL:https://pmug.org/event/pmug-clinic-via-zoom-june-21st-600-pm/
LOCATION:Zoom App
CATEGORIES:Archived Event
ATTACH;FMTTYPE=image/png:https://pmug.org/wp-content/uploads/2021/04/Screen-Shot-2021-04-13-PMUG-Clinic-w-permission-e1635276922954.png
END:VEVENT
BEGIN:VEVENT
DTSTART;TZID=America/Los_Angeles:20220627T183000
DTEND;TZID=America/Los_Angeles:20220627T193000
DTSTAMP:20260422T150810
CREATED:20210927T051329Z
LAST-MODIFIED:20220629T040624Z
UID:5037-1656354600-1656358200@pmug.org
SUMMARY:PMUG Steering Meeting - June 27th / 6:30 pm
DESCRIPTION:PMUG Steering Committee Meeting\n \nDuring the pandemic PMUG steering meetings\, are being held via Zoom. \nPMUG members are always welcome to attend. \nYou may participate in the discussion or just observe. \nHow to Attend: \nSend an email to info@pmug.org saying that you would like to attend the steering committee meeting. We will send back an email with a link to the meeting. It will include the meeting ID and pass code to copy and paste\, in case you don’t want to click on a link in an email. \nDuration:\n \nTypically 6:30 PM — 7:30 PM or a little beyond. \n  \n 
URL:https://pmug.org/event/pmug-steering-meeting-june-27th-630/
LOCATION:Zoom App
CATEGORIES:Archived Event,Steering Committee
ATTACH;FMTTYPE=image/jpeg:https://pmug.org/wp-content/uploads/2019/12/Meeting_Pictos.jpg
END:VEVENT
BEGIN:VEVENT
DTSTART;TZID=America/Los_Angeles:20220628T180000
DTEND;TZID=America/Los_Angeles:20220628T193000
DTSTAMP:20260422T150810
CREATED:20220124T013714Z
LAST-MODIFIED:20220629T040640Z
UID:5813-1656439200-1656444600@pmug.org
SUMMARY:PMUG Clinic Via Zoom / June 28th / 6:00 pm
DESCRIPTION:PMUG Clinic (via Zoom) \nDuring the pandemic we are holding PMUG Clinics via Zoom. \nIf you have Mac or iOS questions\, come by. If you don’t have questions but just want to hang out\, come by too. \nHow to Attend: \nMembers should receive an email with Zoom access info and a link 24 hours before the scheduled clinic. If you do not receive the notice\, send an email to info@pmug.org. \nAlso\, if you cannot make it at the scheduled PMUG Clinic time\, send an email to info@pmug.org\, and we can arrange a time to work with you. \nThe info email will include a link to the meeting. If you have not used Zoom before\, the linked page will give you the option for auto-download of the Zoom app. You can even join in from a computer running the Chrome browser in case you don’t want to install the Zoom software on your device. If you do not want to click on a link in an email\, the meeting ID and Passcode will be included for you to type or paste into the app or the Join a Meeting page at https://zoom.us/join. You can independently download the Zoom client app from https://zoom.us/download. \nWhen you get to the meeting: \nDON’T BE SHY. Since we have moved the clinics to Zoom\, they have become a welcome social event for PMUG members during the pandemic. We get into extended discussions on various topics. HOWEVER\, the purpose of the clinics is to help you with your technical Apple problems. Feel free to Raise Your Hand\, either physically in front of your camera\, or via the raise hand tool at the bottom of the Zoom window. The meeting host will give you priority. \n 
URL:https://pmug.org/event/pmug-clinic-via-zoom-june-28th-600-pm/
LOCATION:Zoom App
CATEGORIES:Archived Event
ATTACH;FMTTYPE=image/png:https://pmug.org/wp-content/uploads/2021/04/Screen-Shot-2021-04-13-PMUG-Clinic-w-permission-e1635276922954.png
END:VEVENT
END:VCALENDAR