BEGIN:VCALENDAR
VERSION:2.0
PRODID:-//PMUG - ECPv6.15.20//NONSGML v1.0//EN
CALSCALE:GREGORIAN
METHOD:PUBLISH
X-WR-CALNAME:PMUG
X-ORIGINAL-URL:https://pmug.org
X-WR-CALDESC:Events for PMUG
REFRESH-INTERVAL;VALUE=DURATION:PT1H
X-Robots-Tag:noindex
X-PUBLISHED-TTL:PT1H
BEGIN:VTIMEZONE
TZID:America/Los_Angeles
BEGIN:DAYLIGHT
TZOFFSETFROM:-0800
TZOFFSETTO:-0700
TZNAME:PDT
DTSTART:20240310T100000
END:DAYLIGHT
BEGIN:STANDARD
TZOFFSETFROM:-0700
TZOFFSETTO:-0800
TZNAME:PST
DTSTART:20241103T090000
END:STANDARD
BEGIN:DAYLIGHT
TZOFFSETFROM:-0800
TZOFFSETTO:-0700
TZNAME:PDT
DTSTART:20250309T100000
END:DAYLIGHT
BEGIN:STANDARD
TZOFFSETFROM:-0700
TZOFFSETTO:-0800
TZNAME:PST
DTSTART:20251102T090000
END:STANDARD
BEGIN:DAYLIGHT
TZOFFSETFROM:-0800
TZOFFSETTO:-0700
TZNAME:PDT
DTSTART:20260308T100000
END:DAYLIGHT
BEGIN:STANDARD
TZOFFSETFROM:-0700
TZOFFSETTO:-0800
TZNAME:PST
DTSTART:20261101T090000
END:STANDARD
END:VTIMEZONE
BEGIN:VEVENT
DTSTART;TZID=America/Los_Angeles:20251108T120000
DTEND;TZID=America/Los_Angeles:20251108T140000
DTSTAMP:20260421T054956
CREATED:20251015T185147Z
LAST-MODIFIED:20251101T182442Z
UID:24089-1762603200-1762610400@pmug.org
SUMMARY:November In Person Meetup / November 8th / 12:00 Noon
DESCRIPTION:PMUG November In-Person Social Gathering\n \nWe haven’t had an all hands in-person meeting since February. [I.e.\, not counting coffee SIG meetings.] \nLet’s get together in person to socialize and enjoy each other’s company! \nBrooklyn Carreta is a new food cart pod in Portland with 18 food carts and the usual wide variety of cuisines. \nWe’d love to see you at this in person event. Details on how to attend are listed below. \nHow to attend\n \nGet in your car and drive. See location details below. \nNote: Brooklyn Carreta has 3 seating areas: an indoor area with roll-up doors on one wall\, an open-wall rain-sheltered area with overhead radiant heaters\, and an open patio. We will be in the rain-sheltered area. WEAR WARM CLOTHES. \nLet us know you are coming! RSVP: Info@pmug.org
URL:https://pmug.org/event/november-in-person-meetup-november-8th-1200-noon/
LOCATION:Brooklyn Carreta\, 4534 SE McLoughlin Blvd\, Portland\, OR\, 97202\, United States
CATEGORIES:Social Gathering
ATTACH;FMTTYPE=image/png:https://pmug.org/wp-content/uploads/2025/10/Screenshot-2025-10-27-at-11.18.33-PM.png
END:VEVENT
END:VCALENDAR