BEGIN:VCALENDAR
VERSION:2.0
PRODID:-//PMUG - ECPv6.15.20//NONSGML v1.0//EN
CALSCALE:GREGORIAN
METHOD:PUBLISH
X-ORIGINAL-URL:https://pmug.org
X-WR-CALDESC:Events for PMUG
REFRESH-INTERVAL;VALUE=DURATION:PT1H
X-Robots-Tag:noindex
X-PUBLISHED-TTL:PT1H
BEGIN:VTIMEZONE
TZID:America/Los_Angeles
BEGIN:DAYLIGHT
TZOFFSETFROM:-0800
TZOFFSETTO:-0700
TZNAME:PDT
DTSTART:20240310T100000
END:DAYLIGHT
BEGIN:STANDARD
TZOFFSETFROM:-0700
TZOFFSETTO:-0800
TZNAME:PST
DTSTART:20241103T090000
END:STANDARD
BEGIN:DAYLIGHT
TZOFFSETFROM:-0800
TZOFFSETTO:-0700
TZNAME:PDT
DTSTART:20250309T100000
END:DAYLIGHT
BEGIN:STANDARD
TZOFFSETFROM:-0700
TZOFFSETTO:-0800
TZNAME:PST
DTSTART:20251102T090000
END:STANDARD
BEGIN:DAYLIGHT
TZOFFSETFROM:-0800
TZOFFSETTO:-0700
TZNAME:PDT
DTSTART:20260308T100000
END:DAYLIGHT
BEGIN:STANDARD
TZOFFSETFROM:-0700
TZOFFSETTO:-0800
TZNAME:PST
DTSTART:20261101T090000
END:STANDARD
END:VTIMEZONE
BEGIN:VEVENT
DTSTART;TZID=America/Los_Angeles:20250216T120000
DTEND;TZID=America/Los_Angeles:20250216T140000
DTSTAMP:20260421T230216
CREATED:20250128T042034Z
LAST-MODIFIED:20250130T194128Z
UID:21260-1739707200-1739714400@pmug.org
SUMMARY:February In Person Lunch & Help Clinic / February 16th / 12:00 Noon
DESCRIPTION:PMUG February In-Person Social Gathering: Lunch & Help Clinic\n \nFor our first in-person gathering of 2025\, we return to the westside of town at the Beaverton Round Table Pizza. PMUG has reserved a large meeting room (AKA party room)\, and in addition to pizza\, there’s a salad bar and many beverage options to purchase. (Gluten free crust available.) \nIN-PERSON HELP CLINIC\nAfter a good meal we will host a help clinic to assist debugging issues you may be having with your macOS or iOs devices. \nLET US KNOW YOU ARE COMING – RSVP AT: INFO@PMUG.ORG \nAfter so many virtual gatherings\, we’d love to see you at this in person event. Details on how to attend are listed below. \n  \nHow to attend\n \nWhen you arrive\, look for our group in the party room to save your seats and then place your order at the front counter. \nOPTIONAL / PREORDER: You can also preorder on the day of the event by calling (503) 646-6168 and let them know you are part of the PMUG’s 12pm reservation in the party room. \nLet us know you are coming! RSVP: Info@pmug.org
URL:https://pmug.org/event/february-in-person-lunch-help-clinic-february-16th-1200-noon/
LOCATION:Beaverton Hillsdale Round Table Pizza\, 10150 SW Beaverton Hillsdale\, Beaverton\, OR\, 97005
CATEGORIES:Social Gathering
ATTACH;FMTTYPE=image/jpeg:https://pmug.org/wp-content/uploads/2023/07/Cars-On-Road.jpg
END:VEVENT
END:VCALENDAR