BEGIN:VCALENDAR
VERSION:2.0
PRODID:-//PMUG - ECPv6.15.20//NONSGML v1.0//EN
CALSCALE:GREGORIAN
METHOD:PUBLISH
X-WR-CALNAME:PMUG
X-ORIGINAL-URL:https://pmug.org
X-WR-CALDESC:Events for PMUG
REFRESH-INTERVAL;VALUE=DURATION:PT1H
X-Robots-Tag:noindex
X-PUBLISHED-TTL:PT1H
BEGIN:VTIMEZONE
TZID:America/Los_Angeles
BEGIN:DAYLIGHT
TZOFFSETFROM:-0800
TZOFFSETTO:-0700
TZNAME:PDT
DTSTART:20230312T100000
END:DAYLIGHT
BEGIN:STANDARD
TZOFFSETFROM:-0700
TZOFFSETTO:-0800
TZNAME:PST
DTSTART:20231105T090000
END:STANDARD
BEGIN:DAYLIGHT
TZOFFSETFROM:-0800
TZOFFSETTO:-0700
TZNAME:PDT
DTSTART:20240310T100000
END:DAYLIGHT
BEGIN:STANDARD
TZOFFSETFROM:-0700
TZOFFSETTO:-0800
TZNAME:PST
DTSTART:20241103T090000
END:STANDARD
BEGIN:DAYLIGHT
TZOFFSETFROM:-0800
TZOFFSETTO:-0700
TZNAME:PDT
DTSTART:20250309T100000
END:DAYLIGHT
BEGIN:STANDARD
TZOFFSETFROM:-0700
TZOFFSETTO:-0800
TZNAME:PST
DTSTART:20251102T090000
END:STANDARD
END:VTIMEZONE
BEGIN:VEVENT
DTSTART;TZID=America/Los_Angeles:20240818T170000
DTEND;TZID=America/Los_Angeles:20240818T190000
DTSTAMP:20260424T063156
CREATED:20240723T031054Z
LAST-MODIFIED:20240723T031054Z
UID:19035-1724000400-1724007600@pmug.org
SUMMARY:August In Person Meetup / August 18th / 5:00 pm
DESCRIPTION:PMUG August In-Person Social Gathering\n \nLet’s get together in person to socialize and enjoy each other’s company! \nPMUG has reserved an indoor area at the Hillsboro Downtown Station\, which has many food cart options to purchase food and beverages. \nAfter so many virtual gatherings\, we’d love to see you at this live in person event. For future events we are locating options on both east and west sides of PDX\, so please let us know if you know of a location with a space that could accommodate our meetings. Details on how to attend are listed below. \nHow to attend\n \nWhen you arrive\, look for our group in the indoor sitting area to save your seats and then place your order at the food cart of your choice. \nLet us know you are coming! RSVP: Info@pmug.org
URL:https://pmug.org/event/august-in-person-meetup-august-18th-500-pm/
LOCATION:Hillsboro Downtown Station\, 320 SE Baseline St\, Hillsboro\, 97123
CATEGORIES:Social Gathering
ATTACH;FMTTYPE=image/jpeg:https://pmug.org/wp-content/uploads/2023/07/Cars-On-Road.jpg
END:VEVENT
END:VCALENDAR