BEGIN:VCALENDAR
VERSION:2.0
PRODID:-//PMUG - ECPv6.15.20//NONSGML v1.0//EN
CALSCALE:GREGORIAN
METHOD:PUBLISH
X-ORIGINAL-URL:https://pmug.org
X-WR-CALDESC:Events for PMUG
REFRESH-INTERVAL;VALUE=DURATION:PT1H
X-Robots-Tag:noindex
X-PUBLISHED-TTL:PT1H
BEGIN:VTIMEZONE
TZID:America/Los_Angeles
BEGIN:DAYLIGHT
TZOFFSETFROM:-0800
TZOFFSETTO:-0700
TZNAME:PDT
DTSTART:20230312T100000
END:DAYLIGHT
BEGIN:STANDARD
TZOFFSETFROM:-0700
TZOFFSETTO:-0800
TZNAME:PST
DTSTART:20231105T090000
END:STANDARD
BEGIN:DAYLIGHT
TZOFFSETFROM:-0800
TZOFFSETTO:-0700
TZNAME:PDT
DTSTART:20240310T100000
END:DAYLIGHT
BEGIN:STANDARD
TZOFFSETFROM:-0700
TZOFFSETTO:-0800
TZNAME:PST
DTSTART:20241103T090000
END:STANDARD
BEGIN:DAYLIGHT
TZOFFSETFROM:-0800
TZOFFSETTO:-0700
TZNAME:PDT
DTSTART:20250309T100000
END:DAYLIGHT
BEGIN:STANDARD
TZOFFSETFROM:-0700
TZOFFSETTO:-0800
TZNAME:PST
DTSTART:20251102T090000
END:STANDARD
END:VTIMEZONE
BEGIN:VEVENT
DTSTART;TZID=America/Los_Angeles:20240519T173000
DTEND;TZID=America/Los_Angeles:20240519T193000
DTSTAMP:20260424T115625
CREATED:20240420T233916Z
LAST-MODIFIED:20240425T170248Z
UID:17392-1716139800-1716147000@pmug.org
SUMMARY:May In Person Meetup / May 19th / 5:30 pm
DESCRIPTION:PMUG May In-Person Social Gathering\n \nIt’s time again to get together in person to socialize and enjoy each other’s company! We only gather a few times a year\, so don’t miss this opportunity to hang with your friends and make new ones. \nHow to attend\n \nNo need to preorder you pizza in advance. When you arrive\, check in at the Party Room to save your seats and then place your order at the register. \nLet us know you are coming! RSVP: Info@pmug.org
URL:https://pmug.org/event/may-in-person-meetup-may-19th-530-pm/
LOCATION:Foster Road Round Table Pizza\, 6250 SE Fostter Rd\, Portland\, OR\, 97206
CATEGORIES:Social Gathering
ATTACH;FMTTYPE=image/jpeg:https://pmug.org/wp-content/uploads/2023/07/Cars-On-Road.jpg
END:VEVENT
END:VCALENDAR