BEGIN:VCALENDAR
VERSION:2.0
PRODID:-//PMUG - ECPv6.15.20//NONSGML v1.0//EN
CALSCALE:GREGORIAN
METHOD:PUBLISH
X-ORIGINAL-URL:https://pmug.org
X-WR-CALDESC:Events for PMUG
REFRESH-INTERVAL;VALUE=DURATION:PT1H
X-Robots-Tag:noindex
X-PUBLISHED-TTL:PT1H
BEGIN:VTIMEZONE
TZID:America/Los_Angeles
BEGIN:DAYLIGHT
TZOFFSETFROM:-0800
TZOFFSETTO:-0700
TZNAME:PDT
DTSTART:20210314T100000
END:DAYLIGHT
BEGIN:STANDARD
TZOFFSETFROM:-0700
TZOFFSETTO:-0800
TZNAME:PST
DTSTART:20211107T090000
END:STANDARD
BEGIN:DAYLIGHT
TZOFFSETFROM:-0800
TZOFFSETTO:-0700
TZNAME:PDT
DTSTART:20220313T100000
END:DAYLIGHT
BEGIN:STANDARD
TZOFFSETFROM:-0700
TZOFFSETTO:-0800
TZNAME:PST
DTSTART:20221106T090000
END:STANDARD
BEGIN:DAYLIGHT
TZOFFSETFROM:-0800
TZOFFSETTO:-0700
TZNAME:PDT
DTSTART:20230312T100000
END:DAYLIGHT
BEGIN:STANDARD
TZOFFSETFROM:-0700
TZOFFSETTO:-0800
TZNAME:PST
DTSTART:20231105T090000
END:STANDARD
END:VTIMEZONE
BEGIN:VEVENT
DTSTART;TZID=America/Los_Angeles:20220509T183000
DTEND;TZID=America/Los_Angeles:20220509T210000
DTSTAMP:20260420T065626
CREATED:20210927T052947Z
LAST-MODIFIED:20220511T193141Z
UID:5047-1652121000-1652130000@pmug.org
SUMMARY:General Meeting - Facebook\, Twitter\, & Alternatives + PMUG Elections / May 9th / 6:30 pm
DESCRIPTION:Program: A Discussion of  Facebook\, Twitter\, & Alternatives/ By All of Us / \n\nIn so many ways today we live in “interesting times.” The big news of the day is that Elon Musk is buying Twitter. How will this affect us? Most PMUG members use Twitter or Facebook\, so this is good opportunity to discuss the current state of social network platforms.  \n\n\nWe also have members with experience running group Facebook pages for organizations who will share their experience with us. Of course\, there will be plenty of ideas for the general user.  \n\n\nWe hope you will come and share your wisdom\, ask questions\, or just listen in. Are there alternative platforms you have seen or used that are worth a look? We would love to hear about them. \n\nJoin in the fun at our May virtual meeting\, for information and camaraderie. \nHow to Attend: \nPMUG will send out an email with an electronic invitation that will start a Zoom virtual meeting on your Mac or iOS device. You can even join in from a computer running the Chrome browser in case you don’t want to install the Zoom software on your device. See the PMUG Zoom info page for more. Visitors are always welcome; send a message via the Contact Us link below to get an invitation. \n  \n6:30 PM — 7:30 PM:\nQ&A Session  \n7:30pm – 8:00 PM:\nPMUG Club Announcements AND Election of Officers  \nNOTICE! NOTICE! If you think you might like to run for office\, be sure to tell the club via email to info@pmug.org. Any member can run for office. Being a club officer is easy and fun! \n8:00 – 9:00 PM:\nFeature Presentation  \n 
URL:https://pmug.org/event/general-meeting-program-tbd-may-9th-630-pm/
LOCATION:Zoom App
CATEGORIES:Archived General Meeting
ATTACH;FMTTYPE=image/jpeg:https://pmug.org/wp-content/uploads/2020/04/GenMeeting-Posterized-gold.jpg
END:VEVENT
END:VCALENDAR