BEGIN:VCALENDAR
VERSION:2.0
PRODID:-//PMUG - ECPv6.15.20//NONSGML v1.0//EN
CALSCALE:GREGORIAN
METHOD:PUBLISH
X-WR-CALNAME:PMUG
X-ORIGINAL-URL:https://pmug.org
X-WR-CALDESC:Events for PMUG
REFRESH-INTERVAL;VALUE=DURATION:PT1H
X-Robots-Tag:noindex
X-PUBLISHED-TTL:PT1H
BEGIN:VTIMEZONE
TZID:America/Los_Angeles
BEGIN:DAYLIGHT
TZOFFSETFROM:-0800
TZOFFSETTO:-0700
TZNAME:PDT
DTSTART:20200308T100000
END:DAYLIGHT
BEGIN:STANDARD
TZOFFSETFROM:-0700
TZOFFSETTO:-0800
TZNAME:PST
DTSTART:20201101T090000
END:STANDARD
BEGIN:DAYLIGHT
TZOFFSETFROM:-0800
TZOFFSETTO:-0700
TZNAME:PDT
DTSTART:20210314T100000
END:DAYLIGHT
BEGIN:STANDARD
TZOFFSETFROM:-0700
TZOFFSETTO:-0800
TZNAME:PST
DTSTART:20211107T090000
END:STANDARD
BEGIN:DAYLIGHT
TZOFFSETFROM:-0800
TZOFFSETTO:-0700
TZNAME:PDT
DTSTART:20220313T100000
END:DAYLIGHT
BEGIN:STANDARD
TZOFFSETFROM:-0700
TZOFFSETTO:-0800
TZNAME:PST
DTSTART:20221106T090000
END:STANDARD
END:VTIMEZONE
BEGIN:VEVENT
DTSTART;TZID=America/Los_Angeles:20211011T183000
DTEND;TZID=America/Los_Angeles:20211011T210000
DTSTAMP:20260419T175639
CREATED:20210323T051735Z
LAST-MODIFIED:20211012T080106Z
UID:4343-1633977000-1633986000@pmug.org
SUMMARY:General Meeting - Microblogging/ October 11th / 6:30 pm
DESCRIPTION:Microblogging: Sharing Without Giving Up Control Of Your Content / By Jean MacDonald / \nJean writes\, “How can we use new platforms and methods to take back control of our social media content? At Micro.blog\, we have built a platform and a community that integrates with other sites\, while keeping the control of your posts\, photos\, and presence on the web in your hands\, not the big media silos. Our mission is to make it easier for people to write on their own blogs and to share their content without being subject to the harassment and stress associated with social media today.” \nJoin in the fun at our October virtual meeting\, for information and camaraderie. \nHow to Attend: \nPMUG will send out an email with an electronic invitation that will start a Zoom virtual meeting on your Mac or iOS device. You can even join in from a computer running the Chrome browser in case you don’t want to install the Zoom software on your device. Visitors are always welcome; send a message via the Contact Us link below to get an invitation. \nQ&A Session:  \n6:30 PM — 7:30 PM \nPMUG Club Announcements:  \n7:30pm – 8:00 PM \nFeature Presentation:  \n8:00 – 9:00 PM \n 
URL:https://pmug.org/event/general-meeting-program-tbd-october-11th-630-pm/
LOCATION:Zoom App
CATEGORIES:Archived General Meeting
ATTACH;FMTTYPE=image/jpeg:https://pmug.org/wp-content/uploads/2020/04/GenMeeting-Posterized-gold.jpg
END:VEVENT
END:VCALENDAR