BEGIN:VCALENDAR
VERSION:2.0
PRODID:-//PMUG - ECPv6.15.20//NONSGML v1.0//EN
CALSCALE:GREGORIAN
METHOD:PUBLISH
X-ORIGINAL-URL:https://pmug.org
X-WR-CALDESC:Events for PMUG
REFRESH-INTERVAL;VALUE=DURATION:PT1H
X-Robots-Tag:noindex
X-PUBLISHED-TTL:PT1H
BEGIN:VTIMEZONE
TZID:America/Los_Angeles
BEGIN:DAYLIGHT
TZOFFSETFROM:-0800
TZOFFSETTO:-0700
TZNAME:PDT
DTSTART:20200308T100000
END:DAYLIGHT
BEGIN:STANDARD
TZOFFSETFROM:-0700
TZOFFSETTO:-0800
TZNAME:PST
DTSTART:20201101T090000
END:STANDARD
BEGIN:DAYLIGHT
TZOFFSETFROM:-0800
TZOFFSETTO:-0700
TZNAME:PDT
DTSTART:20210314T100000
END:DAYLIGHT
BEGIN:STANDARD
TZOFFSETFROM:-0700
TZOFFSETTO:-0800
TZNAME:PST
DTSTART:20211107T090000
END:STANDARD
BEGIN:DAYLIGHT
TZOFFSETFROM:-0800
TZOFFSETTO:-0700
TZNAME:PDT
DTSTART:20220313T100000
END:DAYLIGHT
BEGIN:STANDARD
TZOFFSETFROM:-0700
TZOFFSETTO:-0800
TZNAME:PST
DTSTART:20221106T090000
END:STANDARD
END:VTIMEZONE
BEGIN:VEVENT
DTSTART;TZID=America/Los_Angeles:20210712T183000
DTEND;TZID=America/Los_Angeles:20210712T210000
DTSTAMP:20260419T120015
CREATED:20210323T043049Z
LAST-MODIFIED:20210721T054137Z
UID:4300-1626114600-1626123600@pmug.org
SUMMARY:General Meeting - How Apple Security Protects You / July 12th / 6:30 pm
DESCRIPTION:How Apple Security Protects You / By Joshin Yamada / \nPMUG Ambassador Joshin Yamada will try to break down some high level concepts into plain english as he gives you a look at the history of security technology\, and how Apple is trying to learn from the mistakes of the past to protect its future products. Did you know that Apple is starting to design interlocking layers of security into its newest chip designs to protect you at levels that couldn’t be achieved before? \nJoin us at this lively presentation. \nHow to Attend: \nPMUG will send out to members an email with an electronic invitation that will start a Zoom virtual meeting on your Mac or iOS device. You can even join in from a computer running the Chrome browser in case you don’t want to install the Zoom software on your device. \nVisitors are always welcome; send a message via the Contact Us link below to get an invitation. \nQ&A Session:  \n6:30 PM — 7:30 PM \nPMUG Club Announcements:  \n7:30pm – 8:00 PM \nFeature Presentation:  \n8:00 – 9:00 PM \n 
URL:https://pmug.org/event/general-meeting-program-tbd-july-12th-630-pm/
LOCATION:Zoom App
CATEGORIES:Archived General Meeting
ATTACH;FMTTYPE=image/jpeg:https://pmug.org/wp-content/uploads/2020/04/GenMeeting-Posterized-gold.jpg
END:VEVENT
END:VCALENDAR