BEGIN:VCALENDAR
VERSION:2.0
PRODID:-//PMUG - ECPv6.15.20//NONSGML v1.0//EN
CALSCALE:GREGORIAN
METHOD:PUBLISH
X-ORIGINAL-URL:https://pmug.org
X-WR-CALDESC:Events for PMUG
REFRESH-INTERVAL;VALUE=DURATION:PT1H
X-Robots-Tag:noindex
X-PUBLISHED-TTL:PT1H
BEGIN:VTIMEZONE
TZID:America/Los_Angeles
BEGIN:DAYLIGHT
TZOFFSETFROM:-0800
TZOFFSETTO:-0700
TZNAME:PDT
DTSTART:20200308T100000
END:DAYLIGHT
BEGIN:STANDARD
TZOFFSETFROM:-0700
TZOFFSETTO:-0800
TZNAME:PST
DTSTART:20201101T090000
END:STANDARD
BEGIN:DAYLIGHT
TZOFFSETFROM:-0800
TZOFFSETTO:-0700
TZNAME:PDT
DTSTART:20210314T100000
END:DAYLIGHT
BEGIN:STANDARD
TZOFFSETFROM:-0700
TZOFFSETTO:-0800
TZNAME:PST
DTSTART:20211107T090000
END:STANDARD
BEGIN:DAYLIGHT
TZOFFSETFROM:-0800
TZOFFSETTO:-0700
TZNAME:PDT
DTSTART:20220313T100000
END:DAYLIGHT
BEGIN:STANDARD
TZOFFSETFROM:-0700
TZOFFSETTO:-0800
TZNAME:PST
DTSTART:20221106T090000
END:STANDARD
END:VTIMEZONE
BEGIN:VEVENT
DTSTART;TZID=America/Los_Angeles:20210510T183000
DTEND;TZID=America/Los_Angeles:20210510T210000
DTSTAMP:20260419T080856
CREATED:20210209T063000Z
LAST-MODIFIED:20210511T051732Z
UID:3940-1620671400-1620680400@pmug.org
SUMMARY:General Meeting - Apple Notes / May 10th / 6:30 pm
DESCRIPTION:Apple Notes / By Tom Needham / ….Plus a recap of the April Apple Event \nThe May 10th General meeting will feature a presentation on Apple Notes by PMUG member Tom Needham. Tom shows how this powerful free app from Apple can be utilized in many ways that are not readily apparent. \nIn addition\, we will discuss the newly released Apple products and what might be still to come this year. \nJoin us at at our May virtual meeting for this lively twoFer presentation. \nHow to Attend: \nPMUG will send out to members an email with an electronic invitation that will start a Zoom virtual meeting on your Mac or iOS device. You can even join in from a computer running the Chrome browser in case you don’t want to install the Zoom software on your device. \nVisitors are welcome! Send an email to info@pmug.org to arrange an invitation. \nQ&A Session:  \n6:30 PM — 7:30 PM \nPMUG Club Announcements:  \n7:30pm – 8:00 PM \nFeature Presentation:  \n8:00 – 9:00 PM \n 
URL:https://pmug.org/event/general-meeting-program-tbd-may-10th-630-pm/
LOCATION:Zoom App
CATEGORIES:Archived General Meeting
ATTACH;FMTTYPE=image/jpeg:https://pmug.org/wp-content/uploads/2020/04/GenMeeting-Posterized-gold.jpg
END:VEVENT
END:VCALENDAR